BEGIN:VCALENDAR
VERSION:2.0
PRODID:-//wp-events-plugin.com//7.2.3.1//EN
BEGIN:VEVENT
UID:207@ventureclub.cz
DTSTART;TZID=Europe/Prague:20220531T180000
DTEND;TZID=Europe/Prague:20220531T200000
DTSTAMP:20221007T082514Z
URL:https://ventureclub.cz/udalost/amerika-politika-a-spolecnost-ii/
SUMMARY:Barack Obama a jeho stopa v americké politice\, kultuře a společ
 nosti
DESCRIPTION:Připravili jsme zajímavý večer - s amerikanistou panem Mart
 inem Svobodou. Znát ho můžete z překladu pro nakladatelství ARGO\, kd
 e vyšla knížka Země zaslíbená\, paměti Baracka Obami. Martin vystud
 oval angličtinu a dlouhodobě se zajímá o politiku USA. Témat se nabí
 zelo více\, například proč došlo k zvolení Donalda Trumpa a později
  Joe Bidena. Uvažovali jsme i komentáře k aktuální situaci vzhledem k
  NATO a Ukrajině/Rusku\, Covid či americký potratový spor. Nicméně\,
  nakonec se dohodla prezentace navazující na zmíněnou knížku -  "Ba
 rack Obama a jeho stopa v americké politice\, kultuře a společnosti".\n
 \nPrezentace stručně představí život a politickou dráhu Baracka Obam
 y\, 44. prezidenta Spojených států amerických\, a zaměří se na tři
  hlavní vnitropolitická témata: ekonomickou krizi v roce 2008 a její 
 řešení\, zdravotnickou reformu a klimatický zákon\; a tři zahraničn
 ěpolitické otázky: válku v Afghánistánu\, rozpínající se Rusko\, 
 arabské jaro. Dotkne se také rasových vztahů v Americe\, personálníc
 h změn na Nejvyšším soudu či snahy zadržovat Čínu pomocí systému
  mezinárodního obchodu.\n\nMartin Svoboda (1975) vystudoval anglistiku a
  bohemistiku na Univerzitě Palackého v Olomouci\, kde získal i doktors
 ký titul z lingvistiky. Studoval na Texas A&amp\;M University v College
  Station v Texasu\, kde také učil potomky českých usedlíků češtin
 ě. Pracoval jako překladatel a redaktor pro nakladatelství Argo. Nyní 
 pracuje v mediálním oddělení Člověka v tísni\, nadále překlád
 á beletrii a komiksy.\n\nVečer mimo úvodní prezentaci bude pojat jako 
 beseda\, očekáváme zajímavou diskuzi. Na akci bude k dispozici a k zak
 oupení již zmíněná knížka.\n\nPřihlásit se můžete pro osobní n
 ebo on-line účast\, po předchozí registraci na akci níže. Kdo přijd
 e osobně\, na toho čeká navíc malé občerstvení.\n\nTěšíme se!
ATTACH;FMTTYPE=image/jpeg:https://ventureclub.cz/wp-content/uploads/2022/0
 6/barack-event.png
CATEGORIES:Prezentace
LOCATION:Park Atrium u spol. 2N\, Pod Vinicí 2028/20\, Praha 12\, Česká 
 republika
GEO:50.0158484;14.404343599999947
X-APPLE-STRUCTURED-LOCATION;VALUE=URI;X-ADDRESS=Pod Vinicí 2028/20\, Praha
  12\, Česká republika;X-APPLE-RADIUS=100;X-TITLE=Park Atrium u spol. 2N:
 geo:50.0158484,14.404343599999947
END:VEVENT
BEGIN:VTIMEZONE
TZID:Europe/Prague
X-LIC-LOCATION:Europe/Prague
BEGIN:DAYLIGHT
DTSTART:20220327T030000
TZOFFSETFROM:+0100
TZOFFSETTO:+0200
TZNAME:CEST
END:DAYLIGHT
END:VTIMEZONE
END:VCALENDAR