BEGIN:VCALENDAR
VERSION:2.0
PRODID:-//wp-events-plugin.com//7.2.3.1//EN
BEGIN:VEVENT
UID:105@ventureclub.cz
DTSTART;TZID=Europe/Prague:20190520T193000
DTEND;TZID=Europe/Prague:20190520T220000
DTSTAMP:20221007T074227Z
URL:https://ventureclub.cz/udalost/appparade-prehlidka-a-soutez-mobilnich-
 aplikaci/
SUMMARY:AppParade - Přehlídka a soutěž mobilních aplikací
DESCRIPTION:Srdečně vás zveme na AppParade - soutěžní přehlídku tuz
 emských mobilních aplikací\, která se v Čechách koná již po 32krá
 t. Pořadatelem akce je firma Synetech\, jejíž majitel Vratislav Zima je
  naším členem. Proto jsme se rozhodli AppParade podpořit a zároveň z
 jistit\, co je nového ve světě technologických start-upů.\nNa přehl
 ídce se představí díla několika vývojářských týmů\, které posu
 zuje odborná porota i veřejnost.  Tématem květnové AppParade je tzv.
  re-engagement\, tedy opakovaný návrat do mobilní aplikace a využití 
 nástrojů\, které opakované používání appky podporují.\nTěšit se
  můžete nejen na prezentace\, soutěž o nejlepší aplikaci\, ale i na 
 spoustu inspirace a dobré pivo.\nHlásit se předem není potřeba. Infor
 mace o přípravě můžete sledovat na webu AppParade nebo na Facebooku.
ATTACH;FMTTYPE=image/jpeg:https://ventureclub.cz/wp-content/uploads/2019/0
 5/AppParade_Venture-Club.jpg
LOCATION:Vnitroblock\, Praha\, Tusarova 31\, Praha 7\, 17000\, Česká repu
 blika
GEO:50.1019463;14.449328599999944
X-APPLE-STRUCTURED-LOCATION;VALUE=URI;X-ADDRESS=Tusarova 31\, Praha 7\, 170
 00\, Česká republika;X-APPLE-RADIUS=100;X-TITLE=Vnitroblock\, Praha:geo:
 50.1019463,14.449328599999944
END:VEVENT
BEGIN:VTIMEZONE
TZID:Europe/Prague
X-LIC-LOCATION:Europe/Prague
BEGIN:DAYLIGHT
DTSTART:20190331T030000
TZOFFSETFROM:+0100
TZOFFSETTO:+0200
TZNAME:CEST
END:DAYLIGHT
END:VTIMEZONE
END:VCALENDAR