BEGIN:VCALENDAR
VERSION:2.0
PRODID:-//wp-events-plugin.com//7.2.3.1//EN
BEGIN:VEVENT
UID:531@ventureclub.cz
DTSTART;TZID=Europe/Prague:20241121T180000
DTEND;TZID=Europe/Prague:20241121T230000
DTSTAMP:20240916T123115Z
URL:https://ventureclub.cz/udalost/beaujolais-nouveau-11/
SUMMARY:Beaujolais nouveau
DESCRIPTION:Letos pořádáme již devátý ročník vydařené akce\, stej
 né místo i čas - jako jiné roky. Skvělé víno\, občerstvení a atmo
 sféra. Přihlášení je možné níže - a neodkládejte to\, je omezen
 ý počet míst a je nás už hodně.\n\nJak to vypadalo minule se můžet
 e podívat zde: na YUTUBE kanále VENTURE CLUBU.\n\nV dávných dobách l
 idé rádi vychutnávali víno nové\, protože vinaři po staletí neum
 ěli vyrobit víno tak\, aby se nekazilo. Beaujolais Nouveau je vyrobeno s
 tejným způsobem jako všechna vína rodící se v Beaujolais\, ale rych
 leji. To proto\, aby si zachovalo svěžest a mladistvou rozvernost\, ná
 dech ovocného aroma a rychlého vykvašení. Od 19. století vinaři z
  Beaujolais dodávali mladé víno do Lyonu\, kde se stalo tak populárn
 ím\, že se mu začalo přezdívat „třetí lyonská řeka“\, a záh
 y si ho oblíbili i Pařížané.\nMladé Beaujolais je ze zákona povol
 eno otevřít/konzumovat až od půlnoci 3. čtvrtka v listopadu. Původn
 ě to bylo pevně stanoveno na 15.  listopadu\, ale protože datum často
  vycházelo na víkend\, což z pohledu prodeje nebylo praktické\, přeš
 lo se na princip “posuvného” čtvrtka.\n\nPOZOR: Registrace na akci j
 e předem nutná \n\nŘádní členové mají jednu vstupenku v ceně čl
 enství a druhou mohou použít pro nečlena klubu\, svého hosta\, dokoup
 it za členskou cenu. Základní členové mohou lístek koupit za klubovo
 u cenu pro sebe a svého hosta. Lístek lze objednat jen po přihlášení
  do stránek klubu.\n\nTěšíme se na setkání - u skvělého vína\, ta
 pas\, a třeba i štrůdlu se zmrzlinou .-)\n\nPetr Šedivý\n\nPoznámka:
  Nemáte-li členství\, udělejte si ho - a nebo se zastavte na jiné ote
 vřené akci. Děkujeme za pochopení.
ATTACH;FMTTYPE=image/jpeg:https://ventureclub.cz/wp-content/uploads/2022/0
 8/cp1_2021.png
CATEGORIES:Společenská akce
LOCATION:CP1 Café & Bistrot\, Konviktská 24\, Praha 1\, 110 00\, Česká 
 republika
GEO:50.0835552;14.417156999999975
X-APPLE-STRUCTURED-LOCATION;VALUE=URI;X-ADDRESS=Konviktská 24\, Praha 1\, 
 110 00\, Česká republika;X-APPLE-RADIUS=100;X-TITLE=CP1 Café & Bistrot:
 geo:50.0835552,14.417156999999975
END:VEVENT
BEGIN:VTIMEZONE
TZID:Europe/Prague
X-LIC-LOCATION:Europe/Prague
BEGIN:STANDARD
DTSTART:20241027T020000
TZOFFSETFROM:+0200
TZOFFSETTO:+0100
TZNAME:CET
END:STANDARD
END:VTIMEZONE
END:VCALENDAR