BEGIN:VCALENDAR
VERSION:2.0
PRODID:-//wp-events-plugin.com//7.2.3.1//EN
BEGIN:VEVENT
UID:254@ventureclub.cz
DTSTART;TZID=Europe/Prague:20211118T180000
DTEND;TZID=Europe/Prague:20211118T230000
DTSTAMP:20221007T074304Z
URL:https://ventureclub.cz/udalost/beaujolais-nouveau-6/
SUMMARY:Beaujolais nouveau
DESCRIPTION:Letos pořádáme již šestý ročník vydařené akce\, stejn
 é místo i čas- jako jiné roky. Skvělé víno\, občerstvení a atmosf
 éra. Přihlášení je možné níže - máme několik posledních míst.
  (Pokud by nebylo možné se potkávat - rozpošleme zásilku řádným 
 členům jako loni\, při covidovém lockdownu.)\n\nJak to vypadalo minule
  se můžete podívat zde: na YUTUBE kanále VENTURE CLUBU.\n\nV dávnýc
 h dobách lidé rádi vychutnávali víno nové\, protože vinaři po sta
 letí neuměli vyrobit víno tak\, aby se nekazilo. Beaujolais Nouveau je 
 vyrobeno stejným způsobem jako všechna vína rodící se v Beaujolais\
 , ale rychleji. To proto\, aby si zachovalo svěžest a mladistvou rozver
 nost\, nádech ovocného aroma a rychlého vykvašení. Od 19. století
  vinaři z Beaujolais dodávali mladé víno do Lyonu\, kde se stalo tak
  populárním\, že se mu začalo přezdívat „třetí lyonská řeka“
 \, a záhy si ho oblíbili i Pařížané.\nMladé Beaujolais je ze zá
 kona povoleno otevřít/konzumovat až od půlnoci 3. čtvrtka v listopadu
 . Původně to bylo pevně stanoveno na 15.  listopadu\, ale protože dat
 um často vycházelo na víkend\, což z pohledu prodeje nebylo praktické
 \, přešlo se na princip “posuvného” čtvrtka.\n\nRegistrace na akci
  je předem nutná a možná po přihlášení - tentokrát jen členům k
 lubu a jejich hostům. Řádní členové mají vstupenky dvě a druhou mo
 hou použít pro nečlena klubu\, svého hosta. Základní členové mají
  místo jedno v ceně členství\, další pak placeně.\n\nTěšíme se n
 a setkání - u skvělého vína\, tapas\, a třeba i štrůdlu se zmrzlin
 ou .-)\n\nPetr Šedivý\n\nPoznámka: Pokud se našich akcí účastníte
  předpokládáme\, že jste očkovaní\, po prodělaném onemocnění cov
 id19\, nebo máte negativní test. V každém případu se ale cítíte zd
 rávi. Děkujeme.
ATTACH;FMTTYPE=image/jpeg:https://ventureclub.cz/wp-content/uploads/2022/0
 8/cp1_2021.png
CATEGORIES:Společenská akce
LOCATION:CP1 Café & Bistrot\, Konviktská 24\, Praha 1\, 110 00\, Česká 
 republika
GEO:50.0835552;14.417156999999975
X-APPLE-STRUCTURED-LOCATION;VALUE=URI;X-ADDRESS=Konviktská 24\, Praha 1\, 
 110 00\, Česká republika;X-APPLE-RADIUS=100;X-TITLE=CP1 Café & Bistrot:
 geo:50.0835552,14.417156999999975
END:VEVENT
BEGIN:VTIMEZONE
TZID:Europe/Prague
X-LIC-LOCATION:Europe/Prague
BEGIN:STANDARD
DTSTART:20211031T020000
TZOFFSETFROM:+0200
TZOFFSETTO:+0100
TZNAME:CET
END:STANDARD
END:VTIMEZONE
END:VCALENDAR