BEGIN:VCALENDAR
VERSION:2.0
PRODID:-//wp-events-plugin.com//7.2.3.1//EN
BEGIN:VEVENT
UID:102@ventureclub.cz
DTSTART;TZID=Europe/Prague:20190507T170000
DTEND;TZID=Europe/Prague:20190507T190000
DTSTAMP:20221007T074227Z
URL:https://ventureclub.cz/udalost/behavee-dalsi-kolo-jednani-o-investici/
SUMMARY:BEHAVEE - další kolo jednání o investici
DESCRIPTION:23.4. jsme viděli projekt analýza chování zákazníků na w
 ebu\, projekt Behavee.com\, český startup. Protože se projekt líbil\, 
 dohodli jsme další kolo jednání - pro členy klubu. Kdo máte zájem\,
  prosím o přihlášení. Podíváme se na otázky\, probereme rizika a p
 říležitosti\, dojednáme další případný postup.\n\nPrezentace i da
 lší materiály najdete po přihlášení mezi projekty k Investici. (Pro
  členy s rámcovou investiční smlouvu).\n\nPro vstup platí obdobná pr
 avidla\, jako na jiné Dny D\, tj podpis NDA\, volný vstup pro řádné 
 členy a placený pro základní členy klubu a nebo investory. Pokud bude
  mít jednání více kol\, platí všichni\, kterých se to týká\, jen 
 jednou.\n\nPro dotazy jsem k dispozici.\n\nPetr Šedivý
ATTACH;FMTTYPE=image/jpeg:https://ventureclub.cz/wp-content/uploads/2019/0
 4/Screenshot-2019-04-17-17.16.21-e1556207212336.png
CATEGORIES:Den D
LOCATION:palác Konvikt\, Bartolomějská 11\, Praha 1\, Praha\, hlavní m
 ěsto\, 110 00\, Česká republika
GEO:50.0830744;14.4175702
X-APPLE-STRUCTURED-LOCATION;VALUE=URI;X-ADDRESS=Bartolomějská 11\, Praha 
 1\, Praha\, hlavní město\, 110 00\, Česká republika;X-APPLE-RADIUS=100
 ;X-TITLE=palác Konvikt:geo:50.0830744,14.4175702
END:VEVENT
BEGIN:VTIMEZONE
TZID:Europe/Prague
X-LIC-LOCATION:Europe/Prague
BEGIN:DAYLIGHT
DTSTART:20190331T030000
TZOFFSETFROM:+0100
TZOFFSETTO:+0200
TZNAME:CEST
END:DAYLIGHT
END:VTIMEZONE
END:VCALENDAR