BEGIN:VCALENDAR
VERSION:2.0
PRODID:-//wp-events-plugin.com//7.2.3.1//EN
BEGIN:VEVENT
UID:33@ventureclub.cz
DTSTART;TZID=Europe/Prague:20170922T173000
DTEND;TZID=Europe/Prague:20170922T190000
DTSTAMP:20221007T080142Z
URL:https://ventureclub.cz/udalost/berlin-sinfonie-der-grosstadt-1730/
SUMMARY:Berlin: Die Sinfonie der Großstadt (17:30 veřejné představení)
DESCRIPTION:22.9.2017 se koná skvělá společenská a kulturní akce - pr
 omítání filmu v kinu Ponrepo\, s live doprovodem Bennewitzova kvarteta.
   Máte-li rádi staré filmy\, zajímají-li Vás reálie Berlína 1927 
 či skvělá muzika\, určitě si datum poznamenejte a stavte se. Předsta
 vení budou dvě - veřejné od 17:30 a klubové od 20:00 hodin a budou st
 át za návštěvu.  Prostředí kina Ponrepo\, film i muzikanti jsou skv
 ělí (kvarteto jsme měli v klubu na koncertu s besedou).\n\n\n\n\n\n\n\n
 \n\n\n\n\n\n\n\n\n\n\n\n\n\n\n\n\n\n\n\n\n\n\n\n\n Berlin: Symphony of a 
 Metropolis (wikipedie\, anglicky)\n\n\n\n\n\n1927 ‧ Nezávislý film/Exp
 erimentální film ‧ 1 h 19 min\n\n\n\n\n\n\n\n\n\n\n\nDatum uvedení:
  1. ledna 1927 (USA)\n\n\n\n\nRežisér: Walter Ruttmann\n\n\n\n\nHudba:
  Edmund Meisel\n\n\n\n\nObsazení: Paul von Hindenburg\n\n\n\n\nScénár
 isté: Walter Ruttmann\, Karl Freund\, Carl Mayer\n\n\n\n\nKamera: Kar
 l Freund\, Reimar Kuntze\, Robert Baberske\, László Schäffer\n\n\n\n
 \n\nPředprodej vstupenek na veřejné představení 17:30 bude přes pokl
 adnu kina Ponrepo a online prodej. Objednání vstupenek na Venture Club p
 ředstavení a navazující párty je přes členy klubu. V případě zá
 jmu nás též můžete kontaktovat.\n\nEinladung in deutsch in pdf ist hi
 er.  Fuer unsere Ventureclubgaeste ist Eintritt um 20 Uhr frei - nur bitt
 en wir um eine Registrierung an unserer WebSeite hier. Vielen Dank im vor
 aus.\n\nTěšíme se.
ATTACH;FMTTYPE=image/jpeg:https://ventureclub.cz/wp-content/uploads/2017/0
 7/BerlinSymphony.jpg
CATEGORIES:Společenská akce
LOCATION:Kino Ponrepo\, Bartolomějská 11\, Praha 1\, Česká republika
GEO:50.0830744;14.4175702
X-APPLE-STRUCTURED-LOCATION;VALUE=URI;X-ADDRESS=Bartolomějská 11\, Praha 
 1\, Česká republika;X-APPLE-RADIUS=100;X-TITLE=Kino Ponrepo:geo:50.08307
 44,14.4175702
END:VEVENT
BEGIN:VTIMEZONE
TZID:Europe/Prague
X-LIC-LOCATION:Europe/Prague
BEGIN:DAYLIGHT
DTSTART:20170326T030000
TZOFFSETFROM:+0100
TZOFFSETTO:+0200
TZNAME:CEST
END:DAYLIGHT
END:VTIMEZONE
END:VCALENDAR