BEGIN:VCALENDAR
VERSION:2.0
PRODID:-//wp-events-plugin.com//7.2.3.1//EN
BEGIN:VEVENT
UID:224@ventureclub.cz
DTSTART;TZID=Europe/Prague:20220503T180000
DTEND;TZID=Europe/Prague:20220503T200000
DTSTAMP:20221007T082728Z
URL:https://ventureclub.cz/udalost/ceske-granaty/
SUMMARY:České granáty - Šperky Ulriky baronky von Levetzow
DESCRIPTION:Večerem provází odborník na gemmologii - Dr. Radek Hanus\, 
 Ph.D.\, EurGeol.\, gemolog\, mineralog a soudní znalec v oboru drahé kov
 y a drahé kameny.\n\nPrezentace (a i knížka) "Šperky Ulriky von Levetz
 ow" (Hanus R. a Hladký P.\, 2019) vznikla jako výsledek restaurování a
  výzkumu mimořádně vzácné kolekce šperku\, v nichž jsou použity j
 edny z největších českých granátů.\n\nZáznam večera je na YouTube
  kanále klubu zde.\n\nV prezentaci se budu věnovat historii rodu Levetz
 ow\, který přišel z Německa\, kdy se paní Amalie von Brösigke provda
 la za Františka Josefa hraběte z Klebelsberg-Thumburgu (jeden ze zaklada
 telů dnešního Národního muzea v Praze). Spolu se usadili na zámku v 
 Třebívlicích v Českém středohoří. Paní Amalie přišla do Čech 
 i se svými třemi dcerami\, přičemž do nejstarší Ulriky (tehdy 17-ti
  leté) se zamiloval J. W. Goethe (ve věku 72 let). Otčím ale vztahu ne
 přál\, a tak již Goethe nikdy do Čech nepřijel. Pan František J. hr
 abět z Klebelsbergu byl zároveň velmi podnikavý\, a tak organizoval t
 ěžbu českých granátů na svém panství. Velmi dobrá produkce podn
 ítila i založení brusírny přímo v Třebívlicích. Takzvaný Ulriči
 n šperk\, který je hlavním tématem prezentace\, byl ve skutečnosti d
 arem hraběte Františka Ulričině matce\, a teprve potom ho Ulrika zdě
 dila.\n\nČeské granáty na šperku jsou natolik veliké\, že velmi pra
 vděpodobně nemohly být získány těžbou\, ale pocházejí nejpíš z
 e starších šperků. V prezentaci je zároveň popsána i dobová těž
 ba a brusírny drahých kamenů v Království českém\, následuje hist
 orie soupravy šperků Ulriky von Levetzow\, včetně popisu poslední kr
 ádeže. Dále se budu věnovat detailnímu popisu šperku včetně gemol
 ogických charakteristik českých granátů a analýz použitého drahéh
 o kovu. Následně bude popsán proces restaurování šperku\, který pr
 obíhal celý v muzeu\, protože ho šperk nesměl opustit.\n\nMimochodem\
 , představu o příběhu šperku můžete získat z článku na webu čes
 kého rozhlasu.\n\nUrčitě dojde čas i na otázky\, například\, kde se
  dají české granáty i dnes v Čechách najít\, či kde se vyskytují 
 (varianta český granát) - opravdu jen u nás? Dozvíme se\, jak se urč
 uje pravost a druh a cena kamenů a jaké pomůcky se používají.\n\nČe
 ský granát je pyrop\, který se nachází pouze na území Českého st
 ředohoří. Český granát je specifický pro své sytě rudé zbarvení
 . České granáty se nachází v podobě zrnek\, nejčastěji o velikosti
  mezi 1 mm až 7 mm\, větší zrna se nachází zřídka. A gemologie? Ge
 mologie je věda zabývající se drahými kameny. Jedná se o aplikovanou
  mineralogii\, která zkoumá vznik\, lokaci\, vlastnosti a technologie zp
 racování přírodních materiálů - drahokamů a polodrahokamů. Zamě
 řuje se na jejich identifikaci a rozlišení od umělých kamenů.\n\n&nb
 sp\;\n\nPřijďte si poslechnout zajímavé informace\, ptát se\, diskuto
 vat a sdílet své zkušenosti.\n\nVečer má vstup volný pro členy klub
 u\, pro ostatní vstupné 200 Kč. pro všechny ale až po předchozí reg
 istraci níže. Přeci jen potřebujeme objednat správné množství obč
 erstvení a zvolit uspořádání sálu.  Večer bude streamován - pro o
 deslání odkazu se níže prosím registrujte.\n\nTěšíme se na viděno
 u.\n\nPetr Marek\, Petr Šedivý
ATTACH;FMTTYPE=image/jpeg:https://ventureclub.cz/wp-content/uploads/2022/0
 8/sperkybaronky-1-e1651048517942.png
CATEGORIES:Prezentace
LOCATION:Park Atrium u spol. 2N\, Pod Vinicí 2028/20\, Praha 12\, Česká 
 republika
GEO:50.0158484;14.404343599999947
X-APPLE-STRUCTURED-LOCATION;VALUE=URI;X-ADDRESS=Pod Vinicí 2028/20\, Praha
  12\, Česká republika;X-APPLE-RADIUS=100;X-TITLE=Park Atrium u spol. 2N:
 geo:50.0158484,14.404343599999947
END:VEVENT
BEGIN:VTIMEZONE
TZID:Europe/Prague
X-LIC-LOCATION:Europe/Prague
BEGIN:DAYLIGHT
DTSTART:20220327T030000
TZOFFSETFROM:+0100
TZOFFSETTO:+0200
TZNAME:CEST
END:DAYLIGHT
END:VTIMEZONE
END:VCALENDAR