BEGIN:VCALENDAR
VERSION:2.0
PRODID:-//wp-events-plugin.com//7.2.3.1//EN
BEGIN:VEVENT
UID:114@ventureclub.cz
DTSTART;TZID=Europe/Prague:20190910T180000
DTEND;TZID=Europe/Prague:20190910T203000
DTSTAMP:20221007T074228Z
URL:https://ventureclub.cz/udalost/clenska-schuze-venture-club-z-s/
SUMMARY:Členská schůze Venture club z.s.
DESCRIPTION:Zvu Vás tímto na členskou schůzi spolku Venture Club z.s.\,
  dne 10.9.2019\, od 18:00 hodin\, v Park Atrium\, Modřany\, Praha 4.\n\nR
 egistrace od 17:30 hodin.\n\nProgram:\n\n 	Informace o hospodaření spolk
 u za uplynulé období a plán na období další\n 	Informace o činnosti
  a plán na další období\n 	Novinky ve vedení projektů\, informační
  systém klubu\n 	Stav zainvestovaných projektů\n 	Novinky v smluvní do
 kumentaci\n\nPřípadné náměty na doplnění programu prosím posílejt
 e do 2.9.2019\, včetně. Děkujeme. Vstup na členskou schůzi je možný
  jen členům\, akceptujeme účast náhradníků\, pokud jsou  vybaveni 
 plnou moci (nemusí být ověřena).\n\nTěším se na setkání.\n\nZdrav
 í\n\nPetr Šedivý a výbor spolku\n\nP.S.\n\nRegistrace předem nutná\,
  je nás již hodně a je třeba zajistit vhodné uspořádání sálu a k
 apacitu občerstvení.
ATTACH;FMTTYPE=image/jpeg:https://ventureclub.cz/wp-content/uploads/2019/0
 7/2018-09-25-17.12.01-e1564404412739-scaled.jpg
CATEGORIES:Členská schůze
LOCATION:Park Atrium u spol. 2N\, Pod Vinicí 2028/20\, Praha 12\, Česká 
 republika
GEO:50.0158484;14.404343599999947
X-APPLE-STRUCTURED-LOCATION;VALUE=URI;X-ADDRESS=Pod Vinicí 2028/20\, Praha
  12\, Česká republika;X-APPLE-RADIUS=100;X-TITLE=Park Atrium u spol. 2N:
 geo:50.0158484,14.404343599999947
END:VEVENT
BEGIN:VTIMEZONE
TZID:Europe/Prague
X-LIC-LOCATION:Europe/Prague
BEGIN:DAYLIGHT
DTSTART:20190331T030000
TZOFFSETFROM:+0100
TZOFFSETTO:+0200
TZNAME:CEST
END:DAYLIGHT
END:VTIMEZONE
END:VCALENDAR