BEGIN:VCALENDAR
VERSION:2.0
PRODID:-//wp-events-plugin.com//7.2.3.1//EN
BEGIN:VEVENT
UID:436@ventureclub.cz
DTSTART;TZID=Europe/Prague:20230926T180000
DTEND;TZID=Europe/Prague:20230926T200000
DTSTAMP:20230922T192717Z
URL:https://ventureclub.cz/udalost/clenska-schuze-venture-clubu-a-prezenta
 ce-projektu/
SUMMARY:Členská schůze Venture Clubu - slavíme 7 let
DESCRIPTION:Slavíme 7 let! Tak jako každý rok\, i letos proběhne člens
 ká schůze. Těšit se můžete na zprávu o činnosti klubu za uplynulý
  již 7. rok činnosti a dáme si dárek: novou mobilní aplikaci klubu a 
 kopec informací. Vstup je pro členy klubu (a partnery a partnerky) a př
 ihlášené zájemce viz níže. Účast možná osobně nebo on-line\, po
  předchozí registraci.\n\nV Praze dne 19.8.2022\n\nMimo první část - 
 oficiální náplň členské schůze\, oslavíme 7. rok činnosti a dáme
  si dárek: novou mobilní aplikaci. Doporučuji\, stavte se osobně\, př
 esto\, že se bude část s prezentací streamovat.\n\nMísto konání: Pa
 rk Atrium. Registrace\, prezence: 17:45\, zahájení 18 hodin.\n\nProgram:
 \n\n 	Výbor seznámí členy s HV roku 2022 - členská schůze bere sta
 v na vědomí\, neschvaluje ho\n 	SLAVÍME 7. let činnosti a dáme si dá
 rek: novou mobilní aplikace Venture club. \n\nUrčitě může přijít 
 řeš na stávající investice\, minimálně na ty\, které se ještě na
 bírají. Předáme kmenové listy investorům\, pokud je ještě nepřevz
 ali a pokud si o ně řeknete předem.\n\nOficiální pozvánka na člensk
 ou schůzi má pouze první bod programu. Těšit se můžete mimo zajíma
 vých informací i na oslavu: welcome drink\, na dort\, občerstvení a sk
 lenku vína od ALIFEA. (Děkujeme za podporu someliérovi Martinu Markovi.
 ) Možná bude i tombola. Hudbu zajistí voxtox.fm (ano\, projekt který u
 kazujeme 3.10.2023 na Den D 56). Přijde fotograf\, tak bude i dokumentace
 .\n\nTakto to vypadalo na minulých ročnících:\n\n      \n\nTěšíme 
 se na setkání. Vstup pro členy s partnery (partnerkami) zdarma\, pro da
 lší hosty za úplatu také možný. Předem registrace viz níže je nut
 ná - počet míst je omezen. Děkujeme.\n\nMUDr. Petr Šedivý\, předsed
 a výboru Venture Clubu z.s.
ATTACH;FMTTYPE=image/jpeg:https://ventureclub.cz/wp-content/uploads/2023/0
 8/oslava5.jpg
CATEGORIES:Členská schůze,Prezentace
LOCATION:Park Atrium u spol. 2N\, Pod Vinicí 2028/20\, Praha 12\, Česká 
 republika
GEO:50.0158484;14.404343599999947
X-APPLE-STRUCTURED-LOCATION;VALUE=URI;X-ADDRESS=Pod Vinicí 2028/20\, Praha
  12\, Česká republika;X-APPLE-RADIUS=100;X-TITLE=Park Atrium u spol. 2N:
 geo:50.0158484,14.404343599999947
END:VEVENT
BEGIN:VTIMEZONE
TZID:Europe/Prague
X-LIC-LOCATION:Europe/Prague
BEGIN:DAYLIGHT
DTSTART:20230326T030000
TZOFFSETFROM:+0100
TZOFFSETTO:+0200
TZNAME:CEST
END:DAYLIGHT
END:VTIMEZONE
END:VCALENDAR