BEGIN:VCALENDAR
VERSION:2.0
PRODID:-//wp-events-plugin.com//7.2.3.1//EN
BEGIN:VEVENT
UID:608@ventureclub.cz
DTSTART;TZID=Europe/Prague:20250930T180000
DTEND;TZID=Europe/Prague:20250930T220000
DTSTAMP:20250926T121638Z
URL:https://ventureclub.cz/udalost/clenska-schuze-venture-clubu-slavime-9-
 let/
SUMMARY:Členská schůze Venture Clubu - slavíme 9 let
DESCRIPTION:Slavíme 9 let! Tak jako každý rok\, i letos proběhne člens
 ká schůze. Těšit se můžete na zprávu o činnosti klubu za uplynulý
  již 9. rok činnosti.\n\nVstup je pro členy klubu a přihlášené záj
 emce viz níže. Účast možná osobně nebo on-line\, po předchozí reg
 istraci.\n\nMimo první část - oficiální náplň členské schůze\, o
 slavíme 9. rok činnosti a podíváme se na novou investici Venture Clubu
 \, která je již jistá a ke které se můžete připojit. Doporučuji\, 
 stavte se osobně\, přesto\, že se bude večer s prezentací streamovat.
  Podklady jsou již v investiční platformě\, podívejte se.\n\n&nbsp\;\
 n\nMísto konání: Park Atrium. Registrace\, prezence: 17:45\, zahájení
  v 18 hodin.\n\nProgram\n\nČlenská schůze Venture Club z.s.\, výbor se
 známí členy s HV roku 2024\, členská schůze bere stav na vědomí\, 
 neschvaluje ho\n\nOslava 9. roku činnosti - pozvání na dort a sklenku s
 ektu\n\nUrčitě přijde řeč na stávající investice\, ale protože je
  vše průběžně v platformě\, podívejte se prosím nejdříve tam.\n\
 n&nbsp\;\n\nOficiální pozvánka na členskou schůzi má pouze první bo
 d programu. Těšit se můžete mimo zajímavých informací i na oslavu: 
 na dort\, občerstvení a sklenku vína.\n\nTakto to vypadalo na minulých
  ročnících:\n\n      \n\nTěšíme se na setkání. Vstup pro členy z
 darma\, pro další hosty za úplatu také možný. Registrace předem je 
 nutná - počet porcí dortu je omezen. Děkujeme.\n\nMUDr. Petr Šedivý\
 , předseda výboru Venture Clubu z.s.
ATTACH;FMTTYPE=image/jpeg:https://ventureclub.cz/wp-content/uploads/2023/0
 8/oslava2.jpg
CATEGORIES:Členská schůze,Prezentace
LOCATION:Park Atrium u spol. 2N\, Pod Vinicí 2028/20\, Praha 12\, Česká 
 republika
GEO:50.0158484;14.404343599999947
X-APPLE-STRUCTURED-LOCATION;VALUE=URI;X-ADDRESS=Pod Vinicí 2028/20\, Praha
  12\, Česká republika;X-APPLE-RADIUS=100;X-TITLE=Park Atrium u spol. 2N:
 geo:50.0158484,14.404343599999947
END:VEVENT
BEGIN:VTIMEZONE
TZID:Europe/Prague
X-LIC-LOCATION:Europe/Prague
BEGIN:DAYLIGHT
DTSTART:20250330T030000
TZOFFSETFROM:+0100
TZOFFSETTO:+0200
TZNAME:CEST
END:DAYLIGHT
END:VTIMEZONE
END:VCALENDAR