BEGIN:VCALENDAR
VERSION:2.0
PRODID:-//wp-events-plugin.com//7.2.3.1//EN
BEGIN:VEVENT
UID:53@ventureclub.cz
DTSTART;TZID=Europe/Prague:20180410T170000
DTEND;TZID=Europe/Prague:20180410T200000
DTSTAMP:20221007T074209Z
URL:https://ventureclub.cz/udalost/den-d-16/
SUMMARY:DEN D 16 Síť paleo vegan bister s online objednáním a rozvozem
DESCRIPTION:Připravili jsme pro členy klubu a jejich hosty další kolo 
 Dne D na 10.4.2018 – představení zajímavých projektů podnikatelů\,
  hledajících investory. Představí se několik let fungující firma - 
 restaurace s rozvážkovou službou po celé Praze\, se skvělým e-shopem
  pro objednání celopražské rozvážky hotových jídel. Pro další ex
 panzi - rozšíření poboček po Praze a expanzi do dalších měst\, hle
 dá partnery a investici. Bližší informace najdou členové po přihlá
 šení v systému Invest.\n\nParticipace předpokládá podpis klubového 
 NDA - jde vyřešit až na místě\, samozřejmě.\n\nZačneme v 17 hodin 
 - přivítáme nové a staré známé a podíváme se\, jaké projekty jso
 u otevřené a co s je nimi nového. Slavíme: 4.4. jsme spustili PETEXPER
 T.cz a ohlásilo se blížící se ukončení prodeje akcií v projektu Uk
 ládání elektrické energie. Povíme si podrobnosti a možnosti zapojen
 í. Ještě jsou! Od 18 hodin pokračujeme prezentací projektu a naváže
 me diskuzí po prezentaci. V neposlední řadě - čeká nás skvělé deg
 ustační menu.\n\nTěšit se můžete na nové kontakty a chcete-li\, př
 edem máte možnost se s projektem seznámit na stránkách klubu\, zjisti
 t základní informace a připravit si otázky. Podrobnosti najdete v sek
 ci Investiční příležitosti - Projekty\, pokud máte podepsanou rámco
 vou smlouvu a zalogujete-li se do stránek. \n\n[vc-members] Web projektu 
 je zde: https://nutricbistro.cz/\n\nObčerstvení zajišťuje tentokrát 
 firma\, která se prezentuje. Na setkání se těší\n\nPetr Šedivý  
    a   \n\n[/vc-members]\n\nAkce je určená řádným členům klubu 
 a jejich hostům\, investorům\, po podpisu klubového NDA. První vstup j
 e i pro hosty volný\, další za úhradu. Doporučujeme se přihlásit v
 čas.
ATTACH;FMTTYPE=image/jpeg:https://ventureclub.cz/wp-content/uploads/2018/0
 2/nutricbistro.png
CATEGORIES:Den D
LOCATION:palác Konvikt\, Bartolomějská 11\, Praha 1\, Praha\, hlavní m
 ěsto\, 110 00\, Česká republika
GEO:50.0830744;14.4175702
X-APPLE-STRUCTURED-LOCATION;VALUE=URI;X-ADDRESS=Bartolomějská 11\, Praha 
 1\, Praha\, hlavní město\, 110 00\, Česká republika;X-APPLE-RADIUS=100
 ;X-TITLE=palác Konvikt:geo:50.0830744,14.4175702
END:VEVENT
BEGIN:VTIMEZONE
TZID:Europe/Prague
X-LIC-LOCATION:Europe/Prague
BEGIN:DAYLIGHT
DTSTART:20180325T030000
TZOFFSETFROM:+0100
TZOFFSETTO:+0200
TZNAME:CEST
END:DAYLIGHT
END:VTIMEZONE
END:VCALENDAR