BEGIN:VCALENDAR
VERSION:2.0
PRODID:-//wp-events-plugin.com//7.2.3.1//EN
BEGIN:VEVENT
UID:258@ventureclub.cz
DTSTART;TZID=Europe/Prague:20180920T170000
DTEND;TZID=Europe/Prague:20180920T200000
DTSTAMP:20221007T074210Z
URL:https://ventureclub.cz/udalost/den-d-19/
SUMMARY:DEN D 19 Nanotechnologie 2: Kosmetika a zdravotnictví
DESCRIPTION:Připravili jsme pro členy klubu a jejich hosty další kolo 
 Dne D na 20. 9. 2018 – představení zajímavých projektů podnikatelů
 \, hledajících investory.  Tentokrát se podíváme podruhé do světa 
 nanotechnologií: firma\, která má vlastní výzkum a vývoj\, připravi
 la zajímavý produkt pro kosmetický průmysl a zdravotnictví\, který j
 de do 3-6 měsíců masově prodávat. Do celého světa...\n\nParticipace
  předpokládá podpis klubového NDA - jde vyřešit až na místě\, sam
 ozřejmě.\n\nZačneme v 17 hodin - přivítáme nové a staré známé a 
 podíváme se\, jaké projekty jsou otevřené a co s je nimi nového.  O
 d 18 hodin pokračujeme prezentací projektu a navážeme diskuzí po prez
 entaci.\n\nTěšit se můžete na nové kontakty a chcete-li\, předem má
 te možnost se s projektem seznámit na stránkách klubu\, zjistit zákla
 dní informace a připravit si otázky. (Platí pro členy klubu\, po při
 hlášení a s uzavřenou rámcovou investiční smlouvou.)\n\n[vc-members
 ] Podrobnosti najdete v sekci Investiční příležitosti - Projekty. Web
  firmy je zde: nanopharma.cz.[/vc-members]\n\nAkce je určená řádným 
 členům klubu a jejich hostům\, investorům\, po podpisu klubového NDA.
  První vstup je i pro hosty volný\, další za úhradu. Doporučujeme se
  přihlásit včas.
ATTACH;FMTTYPE=image/jpeg:https://ventureclub.cz/wp-content/uploads/2018/0
 9/Screenshot-2018-09-13-08.17.21-e1537174574103.png
CATEGORIES:Den D
LOCATION:palác Konvikt\, Bartolomějská 11\, Praha 1\, Praha\, hlavní m
 ěsto\, 110 00\, Česká republika
GEO:50.0830744;14.4175702
X-APPLE-STRUCTURED-LOCATION;VALUE=URI;X-ADDRESS=Bartolomějská 11\, Praha 
 1\, Praha\, hlavní město\, 110 00\, Česká republika;X-APPLE-RADIUS=100
 ;X-TITLE=palác Konvikt:geo:50.0830744,14.4175702
END:VEVENT
BEGIN:VTIMEZONE
TZID:Europe/Prague
X-LIC-LOCATION:Europe/Prague
BEGIN:DAYLIGHT
DTSTART:20180325T030000
TZOFFSETFROM:+0100
TZOFFSETTO:+0200
TZNAME:CEST
END:DAYLIGHT
END:VTIMEZONE
END:VCALENDAR