BEGIN:VCALENDAR
VERSION:2.0
PRODID:-//wp-events-plugin.com//7.2.3.1//EN
BEGIN:VEVENT
UID:257@ventureclub.cz
DTSTART;TZID=Europe/Prague:20181016T170000
DTEND;TZID=Europe/Prague:20181016T200000
DTSTAMP:20221007T074211Z
URL:https://ventureclub.cz/udalost/den-d-20-2/
SUMMARY:DEN D 20 Jak nahradit plastové sáčky a tašky?
DESCRIPTION:Připravili jsme pro členy klubu a jejich hosty další kolo 
 Dne D na 16.10.2018 – představení zajímavých projektů podnikatelů\
 , hledajících investory. Představí se firma\, která již v Chile dod
 ává ekologickou plně odbouratelnou náhradu plastu na odnosné tašky t
 amnímu obchodními řetězci. Ráda by dodávala i do ostatních destinac
 í\, nejlépe s lokální výrobou. Materiál je patentovaný a dokonce..j
 edlý. Podle postupu výroby jde připravit vhodnou tuhost i odbouratelnos
 t ve vodě pro různé teploty. Zajímavý projekt\, s kterým můžeme p
 řispět k ochraně životního prostředí.\n\nParticipace předpokládá
  podpis klubového NDA - jde vyřešit až na místě\, samozřejmě.\n\nZ
 ačneme v 17 hodin - přivítáme nové a staré známé a podíváme se\,
  jaké projekty jsou otevřené a co s je nimi nového.  Od 18 hodin pokr
 ačujeme prezentací projektu a navážeme diskuzí po prezentaci.\n\nTě
 šit se můžete na nové kontakty a chcete-li\, předem máte možnost se
  s projektem seznámit na stránkách klubu\, zjistit základní informace
  a připravit si otázky.\n\n[vc-members] Podrobnosti najdete v sekci Inve
 stiční příležitosti - Projekty. Web firmy je zde: solubag.cl [/vc-me
 mbers]\n\nAkce je určená řádným členům klubu a jejich hostům\, inv
 estorům\, po podpisu klubového NDA. První vstup je i pro hosty volný\,
  další za úhradu. Doporučujeme se přihlásit včas.
ATTACH;FMTTYPE=image/jpeg:https://ventureclub.cz/wp-content/uploads/2018/0
 2/Screenshot-2018-09-17-11.29.27.png
CATEGORIES:Den D
LOCATION:palác Konvikt\, Bartolomějská 11\, Praha 1\, Praha\, hlavní m
 ěsto\, 110 00\, Česká republika
GEO:50.0830744;14.4175702
X-APPLE-STRUCTURED-LOCATION;VALUE=URI;X-ADDRESS=Bartolomějská 11\, Praha 
 1\, Praha\, hlavní město\, 110 00\, Česká republika;X-APPLE-RADIUS=100
 ;X-TITLE=palác Konvikt:geo:50.0830744,14.4175702
END:VEVENT
BEGIN:VTIMEZONE
TZID:Europe/Prague
X-LIC-LOCATION:Europe/Prague
BEGIN:DAYLIGHT
DTSTART:20180325T030000
TZOFFSETFROM:+0100
TZOFFSETTO:+0200
TZNAME:CEST
END:DAYLIGHT
END:VTIMEZONE
END:VCALENDAR