BEGIN:VCALENDAR
VERSION:2.0
PRODID:-//wp-events-plugin.com//7.2.3.1//EN
BEGIN:VEVENT
UID:64@ventureclub.cz
DTSTART;TZID=Europe/Prague;VALUE=DATE:20180623
DTEND;TZID=Europe/Prague;VALUE=DATE:20180627
DTSTAMP:20221007T074210Z
URL:https://ventureclub.cz/udalost/rohace-nejkrasnejsi-hory-slovenska/
SUMMARY:Roháče - nejkrásnější hory Slovenska
DESCRIPTION:\nČlenové klubu mají možnost se přidat k - tentokrát - p
 ánské jízdě po horách Slovenska\, letos jedeme do Roháčů a tráví
 me tam 4 dny chozením po horách. Pojedeme vlakem přes noc do Liptovské
 ho Mikuláše\, v sobotu ráno pak taxikem do  ústí Jalovecké doliny\,
  dolinou Parichvost\, do Baníkovského sedla\, odtud po zelené kolem Roh
 áčských ples na Ťatliakovu chatu a zní budeme dělat výlety. Je to l
 egendární místo na rozcestí tras v klínu hor\, 1374 m.n.m. Obnovená 
 chata v roce 2007 na místě starší\, patřící původně KST v letech 
 1941-1963. Ubytování na pokoji s bielizní\, na pokoji umyvadlo\, sprcha
  WC společné na chodbě a se stravováním v jídelně a la carte. ... V
  uterý večer se opět vlakem vrátíme a jako obvykle\, v nohách bude p
 ár desítek kilometrů krásnou přírodou na čerstvém vzduchu.\n\n\nKo
 ná se již 16. ročník akce\, pořádá ji Radim Horák\, zakládající
  člen klubu a kamarád. Poslední tři roky chodíme v partě lidí\, pat
 řící dnes pod Venture Club.\n\nPředběžné avizo akce - nicméně\, z
 ájemce prosíme o reakci obratem\, uzavíráme brzy ubytování a akce je
  jen pro malou skupinu osob. Náklady si hradí každý sám.\n
ATTACH;FMTTYPE=image/jpeg:https://ventureclub.cz/wp-content/uploads/2018/0
 2/Screenshot-2018-03-07-13.21.51.png
CATEGORIES:Společenská akce
LOCATION:Ťatliakova chata\, Zuberec – Roháčska dolina\, Slovensko
GEO:49.2240779;19.726704400000017
X-APPLE-STRUCTURED-LOCATION;VALUE=URI;X-ADDRESS=Zuberec – Roháčska doli
 na\, Slovensko;X-APPLE-RADIUS=100;X-TITLE=Ťatliakova chata:geo:49.2240779
 ,19.726704400000017
END:VEVENT
BEGIN:VTIMEZONE
TZID:Europe/Prague
X-LIC-LOCATION:Europe/Prague
BEGIN:DAYLIGHT
DTSTART:20180325T030000
TZOFFSETFROM:+0100
TZOFFSETTO:+0200
TZNAME:CEST
END:DAYLIGHT
END:VTIMEZONE
END:VCALENDAR