BEGIN:VCALENDAR
VERSION:2.0
PRODID:-//wp-events-plugin.com//7.2.3.1//EN
BEGIN:VEVENT
UID:256@ventureclub.cz
DTSTART;TZID=Europe/Prague:20181211T170000
DTEND;TZID=Europe/Prague:20181211T200000
DTSTAMP:20221007T081756Z
URL:https://ventureclub.cz/udalost/den-d-22/
SUMMARY:DEN D 22
DESCRIPTION:Připravili jsme pro členy klubu a jejich hosty další kolo 
 Dne D na 11.12.2018 – představení zajímavých projektů podnikatelů\
 , hledajících investory. Podíváme se znovu na Solubag\, tentokrát z p
 ohledu čísel a praktického provedení případné investice. O prvním 
 kole představení si můžete přečíst zde: Solubag – výrobce mater
 iálu na rozpustné eko tašky hledá investora.\n\nParticipace předpokl
 ádá podpis klubového NDA - jde vyřešit až na místě\, samozřejmě.
  Začneme v 17 hodin - přivítáme nové a staré známé a podíváme s
 e\, jaké projekty jsou otevřené a co s je nimi nového.  Od 18 hodin p
 okračujeme prezentací projektu a navážeme diskuzí po prezentaci.\n\nT
 ěšit se můžete na nové kontakty a chcete-li\, předem máte možnost 
 se s projektem seznámit na stránkách klubu\, zjistit základní informa
 ce a připravit si otázky.\n\n[vc-members] Podrobnosti najdete v sekci In
 vestiční příležitosti - Investice\, Náhrada plastů[/vc-members]\n\n
 Akce je určená řádným členům klubu a jejich hostům\, investorům\,
  po podpisu klubového NDA. První vstup je i pro hosty volný\, další z
 a úhradu. Doporučujeme se přihlásit včas.
ATTACH;FMTTYPE=image/jpeg:https://ventureclub.cz/wp-content/uploads/2018/0
 2/solubag_pic.jpg
CATEGORIES:Den D
LOCATION:palác Konvikt\, Bartolomějská 11\, Praha 1\, Praha\, hlavní m
 ěsto\, 110 00\, Česká republika
GEO:50.0830744;14.4175702
X-APPLE-STRUCTURED-LOCATION;VALUE=URI;X-ADDRESS=Bartolomějská 11\, Praha 
 1\, Praha\, hlavní město\, 110 00\, Česká republika;X-APPLE-RADIUS=100
 ;X-TITLE=palác Konvikt:geo:50.0830744,14.4175702
END:VEVENT
BEGIN:VTIMEZONE
TZID:Europe/Prague
X-LIC-LOCATION:Europe/Prague
BEGIN:STANDARD
DTSTART:20181028T020000
TZOFFSETFROM:+0200
TZOFFSETTO:+0100
TZNAME:CET
END:STANDARD
END:VTIMEZONE
END:VCALENDAR