BEGIN:VCALENDAR
VERSION:2.0
PRODID:-//wp-events-plugin.com//7.2.3.1//EN
BEGIN:VEVENT
UID:93@ventureclub.cz
DTSTART;TZID=Europe/Prague:20190226T173000
DTEND;TZID=Europe/Prague:20190226T213000
DTSTAMP:20221007T075759Z
URL:https://ventureclub.cz/udalost/den-d-24/
SUMMARY:DEN D 24 Ukládání elektrické energie II.
DESCRIPTION:Segment ukládání energie pro energetiku (a nejen tu) je nov
 ě se rozvíjející odvětví s neskutečně velkým potenciálem. Bateri
 e totiž potřebujeme všichni a všude\, je jedno\, jaký zdroj energie n
 akonec doplňují. Kompenzovat výkyvy sítě\, spotřeby\, ukládat\, dod
 ávat\, užije jak elektrárna\, jedno zda solární\, větrná\, či jade
 rná\, tak jednotlivec ve svém domě a nebo výroba v průmyslu. Nemluvě
  o očekávaném rozvoji elektromobility\, která mimo baterií do aut bud
 e potřebovat budovat masivní infrastrukturu úložišť pro dobíjení v
 ozidel.\n\nNa 24. Dnu D jsme se proto rozhodli věnovat znovu pozornost pr
 ojektu ukládání elektrické energie a bateriím He3da. Mnozí z vás 
 už do výstavby továrny na výrobu unikátních baterií investovali. 
 Pozvali jsme proto hosty nejpovolanější: Jana Procházku\, autora vyn
 álezu\, vědce a ředitele firmy He3da a Milana Rýdla a Jaroslava Kučer
 u\, majitele firmy Battery Unite. Večer chceme věnovat informacím o po
 sledním vývoji\, stavu projektu\, projít konkurenční výhody\, odpov
 ědět otázky. K dispozici budeme mít ukázky technologie a vzorky. Nav
 ážeme občerstvením a možností neformálně popovídat.\n\n[vc-member
 s] Rádi bychom členům klubu nabídli podrobnější informace k jejich 
 (další) investici. Ne každý byl v Letňanech\, ne každý v Horní Suc
 hé a málokdo se zná s autorem vynálezu - autorem baterie He3da - panem
  Janem Procházkou. Za už skoro dva roky\, co projekt sledujeme\, je mnoh
 o novinek\, podíváme se jakých. Stavba továrny finišuje\, v druhém 
 čtvrtletí kolaudujeme\, peněz už se na zahájení vybralo dost. V tře
 tím se čeká spuštění výroby... [/vc-members]\nPraktické informace:
 \nParticipace předpokládá podpis RFI (žádosti o informace) a klubové
 ho NDA nebo NDA společnosti MES - jde vyřešit až na místě\, samozře
 jmě.\n\nRegistrace bude od 17:30 hodin\, začátek pak v 18 hodin - pokra
 čujeme vlastním programem\, na který od 20ti hodin naváže neformáln
 í večer s občerstvením.\n\nAkce je určená členům klubu a investor
 ům projektu. Vstup investorům projektu s investicí přes klub a řádn
 ým členům je zdarma. Vstup základním členům bez investice v projekt
 u je výjimečně nižší - 500 Kč na osobu. První vstup hostům na poz
 vání: zdarma.\n\nDoporučujeme se přihlásit včas a to ideálně do 22
 .2.2019 včetně. Musíme potvrdit catering a nechat podle počtu přihlá
 šených upravit sál v Parku Atrium\, v Modřanech.
CATEGORIES:Den D
LOCATION:Park Atrium u spol. 2N\, Pod Vinicí 2028/20\, Praha 12\, Česká 
 republika
GEO:50.0158484;14.404343599999947
X-APPLE-STRUCTURED-LOCATION;VALUE=URI;X-ADDRESS=Pod Vinicí 2028/20\, Praha
  12\, Česká republika;X-APPLE-RADIUS=100;X-TITLE=Park Atrium u spol. 2N:
 geo:50.0158484,14.404343599999947
END:VEVENT
BEGIN:VTIMEZONE
TZID:Europe/Prague
X-LIC-LOCATION:Europe/Prague
BEGIN:STANDARD
DTSTART:20181028T020000
TZOFFSETFROM:+0200
TZOFFSETTO:+0100
TZNAME:CET
END:STANDARD
END:VTIMEZONE
END:VCALENDAR