BEGIN:VCALENDAR
VERSION:2.0
PRODID:-//wp-events-plugin.com//7.2.3.1//EN
BEGIN:VEVENT
UID:116@ventureclub.cz
DTSTART;TZID=Europe/Prague:20190924T170000
DTEND;TZID=Europe/Prague:20190924T200000
DTSTAMP:20221007T074228Z
URL:https://ventureclub.cz/udalost/den-d-28/
SUMMARY:DEN D 28 Aquaponie II
DESCRIPTION:Připravili jsme pro členy klubu a jejich hosty další akci -
  Den D 28. Aquaponie II - farma u Brna - je zajímavé podívat se na nov
 ý projekt a být u jeho zrodu. Protože nás minulá prezentace zaujala a
  zapadá do konceptu projektů s positivním společenským dopadem\, pod
 íváme se podrobněji na konkrétní projekt\, který může velmi rychle
  začít produkovat ryby a zeleninu.&nbsp\;\n\nParticipace předpokládá 
 podpis klubového NDA - jde vyřešit až na místě\, samozřejmě.&nbsp\
 ;Začneme v 17 hodin - přivítáme nové a staré známé a podíváme se
 \, jaké projekty jsou otevřené a co s je nimi nového. &nbsp\;Od 18 hod
 in pokračujeme krátkou prezentací projektu a pokračovat budeme vlastn
 ím workshopem.\n\n[vc-members] Večer věnovaný Aquaponii II - ekonomice
  farmy v prostorách skleníků agrodružstva Tuřany u Brna - je konkrét
 ní užití na 1050 m2 plochy skleníku - s rozumným rozpočtem a zajíma
 vou návratností - kterému můžeme pomoci na svět. Chcete být u toho?
  Pojďte se s námi na to podívat. Bližší informace najdete již dnes 
 jako obvykle v sekci Investice - včetně materiálů ke stáhnutí - deta
 ilního business plánu. [/vc-members]\n\nAkce je určená řádným člen
 ům klubu a jejich hostům\, investorům\, po podpisu klubového NDA. Prvn
 í vstup je i pro hosty volný\, další za úhradu. Doporučujeme se při
 hlásit včas. Kapacita omezena tentokrát zvoleným prostorem.
CATEGORIES:Den D
LOCATION:palác Konvikt\, Bartolomějská 11\, Praha 1\, Praha\, hlavní m
 ěsto\, 110 00\, Česká republika
GEO:50.0830744;14.4175702
X-APPLE-STRUCTURED-LOCATION;VALUE=URI;X-ADDRESS=Bartolomějská 11\, Praha 
 1\, Praha\, hlavní město\, 110 00\, Česká republika;X-APPLE-RADIUS=100
 ;X-TITLE=palác Konvikt:geo:50.0830744,14.4175702
END:VEVENT
BEGIN:VTIMEZONE
TZID:Europe/Prague
X-LIC-LOCATION:Europe/Prague
BEGIN:DAYLIGHT
DTSTART:20190331T030000
TZOFFSETFROM:+0100
TZOFFSETTO:+0200
TZNAME:CEST
END:DAYLIGHT
END:VTIMEZONE
END:VCALENDAR