BEGIN:VCALENDAR
VERSION:2.0
PRODID:-//wp-events-plugin.com//7.2.3.1//EN
BEGIN:VEVENT
UID:182@ventureclub.cz
DTSTART;TZID=Europe/Prague:20210126T170000
DTEND;TZID=Europe/Prague:20210126T200000
DTSTAMP:20221007T074247Z
URL:https://ventureclub.cz/udalost/den-d-37/
SUMMARY:Den D 37 FrutiGo
DESCRIPTION:Po mnoha startupech\, softwarových projektech a začínající
 ch projektech se tentokrát podíváme na příležitost investice do prů
 myslového podniku\, kde vzniká produkce v BIO kvalitě\, něco hmotného
 \, zdravého. Platí zde tvrdá čísla a poctivé řemeslo:\n\nFrutiGo je
  společnost s tradicí od roku 1938. Tradiční český zpracovatel a vý
 robce přírodních produktů vysoké kvality v BIO a konvenční kvalitě
  ve výrobním závodě ve Východních Čechách se zaměření na výrob
 u: ovocných a zeleninových koncentrátů\, sirupů\, šťáv\, sušenýc
 h produktů\, ovocných zákvasů a bylinných produktů.\n\nFrutiGo hled
 á financování pro další rozvoj a současně s projektem se nabízejí
  další synergie. Podklady v platformě členové najdou jako obvykle.  
  \n\nOd 17ti hodin běží setkání členů a hostů\, od 18ti hodin pak
  vlastní prezentace. Díky Covid situaci se sejde užší pracovní skupi
 na v sídle klubu a většina zájemců bude jen ON-LINE.\n\nPro přihlá
 šení prosím použijte registraci níže. Před večerem\, pokud se hlá
 síte on-line\, pak obdržíte link na přihlášení. Během večera bude
  prostor na dotazy\, ať už přes chat\, či osobně.\n\nOpakované přih
 lášení na akci je možné jen členům Venture Clubu. Nemáte členstv
 í a už jste u nás byli? Udělejte si registraci do klubu a můžete se 
 přihlásit. První návštěva je možná i bez členství.\n\nDěkujeme 
 a těšíme se na zajímavý večer.\n\nPetr Šedivý\n\nVenture Club z.s.
ATTACH;FMTTYPE=image/jpeg:https://ventureclub.cz/wp-content/uploads/2022/0
 8/Frutigo-e1611219120540.png
CATEGORIES:Den D
LOCATION:palác Konvikt\, Bartolomějská 11\, Praha 1\, Praha\, hlavní m
 ěsto\, 110 00\, Česká republika
GEO:50.0830744;14.4175702
X-APPLE-STRUCTURED-LOCATION;VALUE=URI;X-ADDRESS=Bartolomějská 11\, Praha 
 1\, Praha\, hlavní město\, 110 00\, Česká republika;X-APPLE-RADIUS=100
 ;X-TITLE=palác Konvikt:geo:50.0830744,14.4175702
END:VEVENT
BEGIN:VTIMEZONE
TZID:Europe/Prague
X-LIC-LOCATION:Europe/Prague
BEGIN:STANDARD
DTSTART:20201025T020000
TZOFFSETFROM:+0200
TZOFFSETTO:+0100
TZNAME:CET
END:STANDARD
END:VTIMEZONE
END:VCALENDAR