BEGIN:VCALENDAR
VERSION:2.0
PRODID:-//wp-events-plugin.com//7.2.3.1//EN
BEGIN:VEVENT
UID:213@ventureclub.cz
DTSTART;TZID=Europe/Prague:20210921T170000
DTEND;TZID=Europe/Prague:20210921T200000
DTSTAMP:20221007T082023Z
URL:https://ventureclub.cz/udalost/den-d-42-automobily-zebra-potreti/
SUMMARY:Den D 42 Automobily ZEBRA\, potřetí
DESCRIPTION:21.9. se podíváme potřetí na projekt\, o kterém víme druh
 ý rok - společnost ZEBRA GROUP vyrábí moc pěkná auta\, určená pro 
 komunální služby\, s desítkami různých nástaveb. Projekt vypadá mo
 c dobře.\n\nPoprvé jsme je viděli na HE3DA dnu v Letňanech\, podruhé 
 před prázdninami letos. Auta existují ve verzi jak s dieselovým (od le
 dna CATEPILAR) \, tak i elektrickým pohonem i 4x4 se vzduchovým podvozke
 m. Vše kategorie ŘP B\, do 3.5 tuny\, ale dají se zvětšit. A protože
  projekt se líbil (podívejte se na záznam minulé akce u projektu mezi 
 Investicemi)\, připravili jsme projekt již s konkrétním rámcem invest
 ice. ((Píšeme to v červenci\, tak trošku předbíháme\, ale vše k to
 mu směřuje))\n\nA proč název ELZEBRA? Protože jde o nízko-emisní va
 riantu komunálního víceúčelového vozidla ZEBRA\, kterou lze označit
  také jako Emission low a proto ELZEBRA\, která umožní činnost všech
  obvyklých nástaveb. \;-)\n\nNa akci sice neuvidí účastníci opět EL
 ZEBRU\, ale podívat se můžete na fotografie z minulé akce - v Galerii.
 \n\nBližší informace k projektu najdete v sekci Investice\, včetně ma
 teriálů ke stáhnutí - prezentaci\, přehledu podmínek tranše a oček
 ávané výnosnosti (plánujeme dividendu i exit)). Je tam i odkaz na minu
 lý ZEBRA den D - nahrávku. Kdo nebyl na prvním obecném dnu - podívejt
 e se.\n\nStále platí\, že elZEBRA  může používat baterie HE3DA a t
 ak naše zapojení dává dvojí smysl. Zajistíme prostředky na expanzi\
 , pomůžeme radou a můžeme zajistit pro zájemce baterie He3da.\n\nProg
 ram:\n\n17:00 - 17:50 Výbor\, seznámení účastníků Dne D\n\n18:00 - 
 20:00 Prezentace\, s online přenosem\, na 5. patře\, ve velkém sále\, 
 ZEBRA a VENTURE CLUB\n\nDen D je tentokrát dostupný členům VENTURE CLU
 BU i nečlenům\, ON-LINE i OSOBNĚ\, nicméně jen po předchozím přihl
 ášení níže. Drobné občerstvení zajištěno. COVID: předpokládám
 e\, že jste s negativním testem\, po očkování nebo po prodělání on
 emocnění covid19 a zdraví\, pokud se účastníte osobně.\n\nTěšíme
  se na setkání.\n\nPetr Šedivý\n\n&nbsp\;
ATTACH;FMTTYPE=image/jpeg:https://ventureclub.cz/wp-content/uploads/2022/0
 8/zebra-e1623851224276-1.png
CATEGORIES:Den D
LOCATION:Park Atrium u spol. 2N\, Pod Vinicí 2028/20\, Praha 12\, Česká 
 republika
GEO:50.0158484;14.404343599999947
X-APPLE-STRUCTURED-LOCATION;VALUE=URI;X-ADDRESS=Pod Vinicí 2028/20\, Praha
  12\, Česká republika;X-APPLE-RADIUS=100;X-TITLE=Park Atrium u spol. 2N:
 geo:50.0158484,14.404343599999947
END:VEVENT
BEGIN:VTIMEZONE
TZID:Europe/Prague
X-LIC-LOCATION:Europe/Prague
BEGIN:DAYLIGHT
DTSTART:20210328T030000
TZOFFSETFROM:+0100
TZOFFSETTO:+0200
TZNAME:CEST
END:DAYLIGHT
END:VTIMEZONE
END:VCALENDAR