BEGIN:VCALENDAR
VERSION:2.0
PRODID:-//wp-events-plugin.com//7.2.3.1//EN
BEGIN:VEVENT
UID:212@ventureclub.cz
DTSTART;TZID=Europe/Prague:20211012T170000
DTEND;TZID=Europe/Prague:20211012T203000
DTSTAMP:20221007T074304Z
URL:https://ventureclub.cz/udalost/den-d-43/
SUMMARY:Den D 43 BP\, ZEBRA\, LF\,...rekapitulace projektů
DESCRIPTION:Den D 43 věnujeme nakonec na rekapitulaci projektů. Plánovan
 é druhé kolo bezpersonálky.cz a investici zatím odkládáme. V mezidob
 í jsme se seznámili nejen s ekonomikou projektu\, ale i s právníkem po
 dívali na aspekty vstupu\, změnu stanov..a další standartní operace\,
  umožňující projekt zodpovědně posoudit. Závěr je: odklad a uvidí
 me\, sledujeme vývoj obratů.\n\nPodíváme se tak po všech investovaný
 ch projektech. Jak těch\, co běží (Behavee\, PetExpert\, MES\, VCBF\, 
 TLL ...)\, tak těch\, co aktuálně nabíráme (ZEBRA\, LAFLUENCE\, CFDF\
 , DYNAM).\n\nAktuální materiály i ke stáhnutí najdete v investiční 
 platformě\, po přihlášení.\n\nProgram:\n\n17:00 - 17:50 rekapitulace 
 stávajících projektů\, novinky a informace\, představení nových čl
 enů\n\n18:00 - 20:30 Prezentace\, s online přenosem\, rekapitulace proje
 ktů\n\nDen D je dostupný členům VENTURE CLUBU i nečlenům\, ON-LINE i
  OSOBNĚ\, nicméně jen po předchozím přihlášení níže. Drobné ob
 čerstvení zajištěno. COVID: předpokládáme\, že jste s negativním 
 testem\, po očkování nebo po prodělání onemocnění covid19 a zdrav
 í\, pokud se účastníte osobně.\n\nTěšíme se na setkání.\n\nPetr 
 Šedivý\n\n&nbsp\;
ATTACH;FMTTYPE=image/jpeg:https://ventureclub.cz/wp-content/uploads/2022/0
 8/rekapitulaceVC.png
CATEGORIES:Den D
LOCATION:Park Atrium u spol. 2N\, Pod Vinicí 2028/20\, Praha 12\, Česká 
 republika
GEO:50.0158484;14.404343599999947
X-APPLE-STRUCTURED-LOCATION;VALUE=URI;X-ADDRESS=Pod Vinicí 2028/20\, Praha
  12\, Česká republika;X-APPLE-RADIUS=100;X-TITLE=Park Atrium u spol. 2N:
 geo:50.0158484,14.404343599999947
END:VEVENT
BEGIN:VTIMEZONE
TZID:Europe/Prague
X-LIC-LOCATION:Europe/Prague
BEGIN:DAYLIGHT
DTSTART:20210328T030000
TZOFFSETFROM:+0100
TZOFFSETTO:+0200
TZNAME:CEST
END:DAYLIGHT
END:VTIMEZONE
END:VCALENDAR