BEGIN:VCALENDAR
VERSION:2.0
PRODID:-//wp-events-plugin.com//7.2.3.1//EN
BEGIN:VEVENT
UID:210@ventureclub.cz
DTSTART;TZID=Europe/Prague:20220118T170000
DTEND;TZID=Europe/Prague:20220118T203000
DTSTAMP:20221007T074307Z
URL:https://ventureclub.cz/udalost/den-d-45/
SUMMARY:Den D 45 - zrušeno
DESCRIPTION:Den D 45 - zrušeno. Blokace termínu byla na lednový Den D 45
  na 18.1.\, první v roce 2022. Projekt byl v jednání - respektive tři\
 , nicméně\, bohužel žádný z nich není aktuálně ve stavu vhodném 
 na prezentaci. Proto jsme se rozhodli termín 18.1. vynechat. Omlouvám se
 \, budeme se těšit na viděnou příště. Pokud by jste hledali do čeh
 o investovat - pokračuje prodej podílů u investice do automobilky ZEBRA
  GROUP\, výrobce baterií HE3DA a s LaFluence jednáme o dalším kole in
 vestice. Bližší podrobnosti najdete v platformě a nebo se ptejte\, rá
 di sdělíme. Děkujeme.\n\n---------\n\nBližší informace k projektu na
 jdete opět v sekci Investice\, včetně materiálů ke stáhnutí\, krát
 ce před akcí.\n\nProgram:\n\n17:00 - 17:50 rekapitulace stávajících p
 rojektů\, novinky a informace\, představení nových členů\n\n18:00 - 
 20:30 Prezentace\, s online přenosem\, projekt Den D 45\n\nDen D je dostu
 pný členům VENTURE CLUBU i nečlenům\, ON-LINE i OSOBNĚ\, nicméně j
 en po předchozím přihlášení níže. Drobné občerstvení zajištěn
 o.\n\nTěšíme se na setkání.\n\nPetr Šedivý\n\nPoznámka: Pokud se 
 našich akcí účastníte předpokládáme\, že jste očkovaní\, po pro
 dělaném onemocnění covid19\, nebo máte negativní test. V každém p
 řípadu se ale cítíte zdrávi. Děkujeme.\n\n&nbsp\;
CATEGORIES:Den D
LOCATION:Park Atrium u spol. 2N\, Pod Vinicí 2028/20\, Praha 12\, Česká 
 republika
GEO:50.0158484;14.404343599999947
X-APPLE-STRUCTURED-LOCATION;VALUE=URI;X-ADDRESS=Pod Vinicí 2028/20\, Praha
  12\, Česká republika;X-APPLE-RADIUS=100;X-TITLE=Park Atrium u spol. 2N:
 geo:50.0158484,14.404343599999947
END:VEVENT
BEGIN:VTIMEZONE
TZID:Europe/Prague
X-LIC-LOCATION:Europe/Prague
BEGIN:STANDARD
DTSTART:20211031T020000
TZOFFSETFROM:+0200
TZOFFSETTO:+0100
TZNAME:CET
END:STANDARD
END:VTIMEZONE
END:VCALENDAR