BEGIN:VCALENDAR
VERSION:2.0
PRODID:-//wp-events-plugin.com//7.2.3.1//EN
BEGIN:VEVENT
UID:225@ventureclub.cz
DTSTART;TZID=Europe/Prague:20220322T170000
DTEND;TZID=Europe/Prague:20220322T203000
DTSTAMP:20221007T082707Z
URL:https://ventureclub.cz/udalost/den-d-46/
SUMMARY:Den D 46 Roboty ERC
DESCRIPTION:Den D 46 představí projekt Evropského Robotizačního Centra
  (ERC). Náhrada lidské práce je speciálně v logistice průmyslu vhodn
 á. Zvláště\, je-li k dispozici robotická ruka\, vozíky\, nakládací
  plošinky a někdo\, kdo to umí projektovat\, vyrobit\, dodat a servisov
 at. Investice na dva roky a zajímavý úrok při dobrých ekonomických v
 ýsledcích se zdá býti zajímavou příležitostí.\n\nVečerem nás bu
 de provázet Jaroslav Šobr\, Chief Designer společnosti CCOE s.r.o. | en
 gineering . automation \n\n  \n\nBližší informace k projektu najdete v 
 sekci Investice\, včetně materiálů ke stáhnutí.\n\nProgram:\n\n17:00
  - 17:50 představení členů\, otázky\, odpovědi\, Prezentace Jirky Š
 imonka\, akciové trhy v USA a fond DYNAM\n\n17:50 - 18:00 Přestávka\n\n
 18:00 - 20:30 Prezentace\, projekt Den D 46: Evropské Robotizační Centr
 um\, Jaroslav Šobr\, diskuze\n\n&nbsp\;\n\nDen D je dostupný členům VE
 NTURE CLUBU i nečlenům\, ON-LINE i OSOBNĚ\, nicméně jen po předchoz
 ím přihlášení níže. Drobné občerstvení zajištěno. Pro nečleny
  platba na místě hotově nebo předem po dohodě převodem\, nemají-li 
 pozvání od řádných členů klubu.\n\nTěšíme se na setkání.\n\nPe
 tr Šedivý\n\nPoznámka: Pokud se našich akcí účastníte předpoklá
 dáme\, že jste očkovaní\, po prodělaném onemocnění covid19\, nebo 
 máte negativní test. V každém případu se ale cítíte zdrávi. Děku
 jeme.\n\n&nbsp\;
ATTACH;FMTTYPE=image/jpeg:https://ventureclub.cz/wp-content/uploads/2022/0
 8/ruka.png
CATEGORIES:Den D
LOCATION:Park Atrium u spol. 2N\, Pod Vinicí 2028/20\, Praha 12\, Česká 
 republika
GEO:50.0158484;14.404343599999947
X-APPLE-STRUCTURED-LOCATION;VALUE=URI;X-ADDRESS=Pod Vinicí 2028/20\, Praha
  12\, Česká republika;X-APPLE-RADIUS=100;X-TITLE=Park Atrium u spol. 2N:
 geo:50.0158484,14.404343599999947
END:VEVENT
BEGIN:VTIMEZONE
TZID:Europe/Prague
X-LIC-LOCATION:Europe/Prague
BEGIN:STANDARD
DTSTART:20211031T020000
TZOFFSETFROM:+0200
TZOFFSETTO:+0100
TZNAME:CET
END:STANDARD
END:VTIMEZONE
END:VCALENDAR