BEGIN:VCALENDAR
VERSION:2.0
PRODID:-//wp-events-plugin.com//7.2.3.1//EN
BEGIN:VEVENT
UID:445@ventureclub.cz
DTSTART;TZID=Europe/Prague:20231003T170000
DTEND;TZID=Europe/Prague:20231003T203000
DTSTAMP:20231003T101151Z
URL:https://ventureclub.cz/udalost/den-d-56-voxtox-streamovaci-aplikace-a-
 zvukova-socialni-sit/
SUMMARY:Den D 56 voxtox.fm streamovací platforma a zvuková sociální sí
 ť
DESCRIPTION:Den D 56 věnujeme nové audio sociální síti voxtox.fm. Rev
 oluční aplikaci\, která umožní vznik nové generaci rozhlasového vys
 ílání: komunitních stanic s obsahem odpovídajícím individualitě u
 živatele. Cílí na personifikovaný poslech\, jehož základní jednotko
 u je jeden uživatel\, kterému jsou doručeny informace přesně podle je
 ho volby. Koncept reaguje na současný trend\, kde úlohu velkých mediá
 lních domů přebírají influenceři. Protože jde o platformu s širok
 ým záběrem\, umožňuje voxtox.fm spravovat zvukové stopy pro dalš
 í využití: vedle rádií pro města\, školy\, firmy\, letiště\, nebo
  marketingové akce lze aplikaci použít také jako audio průvodce\, neb
 o hlasový informační systém. Vše za pomoci QR kódů - stačí oskeno
 vat. \n\nZkuste to níže: Aplikaci stáhnete zdarma\, autorská práva k 
 hudebním dílům jsou vypořádána. Proto je možné libovolně poslouch
 at\, tvořit a do svého feedu přidávat ty\, kteří vás zajímají. Na
  této platformě se potkává obsah vytvářený automatizovaně pomocí 
 AI s obsahem autentickým vytvořeným lidmi v dokonalém mixu. Na voxto
 xu najdete všechny potřebné nástroje\, které tvůrce potřebuje pro v
 ytváření obsahu. Od RSS kanálů přes text to speach v 67 jazycích a
 ž po automatizovaný překlad a vytváření osobních audio avatarů.\n\
 n&nbsp\;\n\nÚčast na Dnu D předpokládá podpis NDA (mlčenlivosti)\, p
 okud dokument nemáte podepsaný\, obdržíte po registraci na akci výzvu
  k podpisu. Podmínkou účasti je tentokrát členství nebo minimálně 
 registrace ve Venture Clubu i bez členství\, oboje umožňuje podpis NDA
  smlouvy.\n\nBližší informace k projektu najdete v sekci Investice (po 
 přihlášení do webu klubu i včetně materiálů ke stáhnutí).\n\nDop
 oručujeme\, podívejte se na prezentace předem\, lépe si připravíte o
 tázky. Poslechnout si krátký úvod můžete zde přes QR kód - obsahuj
 e link na voxtox.fm stream:\n\n\n\nVyužití aplikace\, která je zdarma\,
  je široké. Můžete poslouchat hudbu a tvořit si playlisty. Můžete p
 oslouchat \, tvořit a sdílet své podcasty. QR kódem se zvukovým zázn
 amem označit své výrobky. Tvořit audio průvodce po galerii\, městě 
 či v mapě. Nahradit třeba písemný oběžník po firmě zvukovou nahr
 ávkou. Jde o reklamní prostor. Nebo třeba taky možnost slyšet svůj o
 blíbený rozhlasový pořad později či přerušit si jeho poslech a pok
 račovat později. Platforma voxtox.fm a streamovací aplikace je vlastně
  i zvukovou sociální sítí a nebo vaším privátním rádiem pro vaše
  posluchače.\n\n&nbsp\;\n\nProgram:\n\n17:00 - 18:00 představení účas
 tníků\, komentář k novinkám v klubu\n\n18:00 - 20:20 voxtox.fm\, Mila
 n Kožíšek\, co-founder\n\nDen D je dostupný členům VENTURE CLUBU ON-
 LINE i OSOBNĚ\, nicméně jen po předchozím přihlášení níže a pod
 pisu NDA. Pro členy s základním členstvím jen po úhradě vstupného\
 , jedno zda se účastní osobně nebo on-line. Drobné občerstvení zaji
 štěno.\n\nPro nečleny klubu: Chcete-li přijít\, doporučujeme je výh
 odnější udělat si minimálně základní členství. Lze koupit vstupe
 nku ale i bez členství - pokud se registrujete a podepište smskou naše
  NDA. Pokud uvažujete reálně investovat a je-li tento druh investován
 í pro Vás vhodný\, je  vstupné a členství maličkost. Děkujeme za 
 pochopení.\n\nPřihlášení níže. Těšíme se na setkání.\n\nPetr 
 Šedivý\n\n&nbsp\;
ATTACH;FMTTYPE=image/jpeg:https://ventureclub.cz/wp-content/uploads/2023/0
 9/voxtox_56.jpg
CATEGORIES:Den D
LOCATION:Park Atrium u spol. 2N\, Pod Vinicí 2028/20\, Praha 12\, Česká 
 republika
GEO:50.0158484;14.404343599999947
X-APPLE-STRUCTURED-LOCATION;VALUE=URI;X-ADDRESS=Pod Vinicí 2028/20\, Praha
  12\, Česká republika;X-APPLE-RADIUS=100;X-TITLE=Park Atrium u spol. 2N:
 geo:50.0158484,14.404343599999947
END:VEVENT
BEGIN:VTIMEZONE
TZID:Europe/Prague
X-LIC-LOCATION:Europe/Prague
BEGIN:DAYLIGHT
DTSTART:20230326T030000
TZOFFSETFROM:+0100
TZOFFSETTO:+0200
TZNAME:CEST
END:DAYLIGHT
END:VTIMEZONE
END:VCALENDAR