BEGIN:VCALENDAR
VERSION:2.0
PRODID:-//wp-events-plugin.com//7.2.3.1//EN
BEGIN:VEVENT
UID:478@ventureclub.cz
DTSTART;TZID=Europe/Prague:20240220T170000
DTEND;TZID=Europe/Prague:20240220T203000
DTSTAMP:20240216T070614Z
URL:https://ventureclub.cz/udalost/den-d-59-sigil-krypto/
SUMMARY:Den D 59 Sigil krypto
DESCRIPTION:Den D 59 - věnujeme kryptosvětu. Představí se nejstarší k
 rypto fond založený již v roce 2018\, Sigil\, sídlem na Gibraltaru. O
 čekávat můžete dva přínosy: aktualizace informací o novinkách v se
 gmentu a pak\, bude-li se téma líbit\, nabízí se možnost investovat p
 řes Venture Club. Prezentovat budou pánové Pavel Stehno (CEO) a Martin 
 Bartůška (Investor Relations). Fond nám doporučil Radim Svatoň (řád
 ný člen a investor VC)\, který s nimi má již pozitivní osobní zkuš
 enost.\n\n\n\nSigil je plně regulovaný fond pro kvalifikované investory
 \, který nabízí investici do vybraného portfolia kryptoměn a získáv
 á dodatečný výnos z oblasti decentralizovaných financí (DeFi). Sigil
  pravidelně překonává benchmark PwC regulovaných krypto fondů a řad
 í se tak mezi nejlépe performující fondy na světě.\n\nPavel Stehno\,
  CEO Sigil fondu\nPavel má 16 let zkušeností v oblasti managementu a fi
 nancí\, z toho 3 roky v M&amp\;A týmu PwC. Před založením fondu Sigil
  působil 7 let jako COO PokerStrategy.com\, největší pokerové affilia
 te společnosti na světě. Podílel se také na jejím prodeji společnos
 ti Playtech v hodnotě 50 milionů dolarů.\n\nBližší informace k proje
 ktu najdete v sekci Investice (po přihlášení do webu klubu i včetně 
 materiálů ke stáhnutí). Doporučujeme\, podívejte se na prezentace p
 ředem\, lépe si připravíte otázky. Materiály publikujeme vždy něko
 lik dnů před prezentací.\n\nProgram:\n\n17:00 - 18:00 představení ú
 častníků\, komentář k novinkám v klubu: investicím půjčka/faktori
 ng ZEBRA a Stavario2. Předáváme kmenové listy SANEZOO pro společníky
  Venture Club SPV1 (SNZ).\n\n18:00 - 20:20 Sigil Crypto Fund\, Pavel Stehn
 o\, CEO a Martin Bartůška\, Investor Relation\n\n&nbsp\;\n\nDen D je dos
 tupný členům VENTURE CLUBU ON-LINE i OSOBNĚ\, nicméně jen po předch
 ozím přihlášení níže a podpisu NDA. Pro členy s základním člens
 tvím jen po úhradě vstupného\, jedno zda se účastní osobně nebo on
 -line. Drobné občerstvení zajištěno.\n\nPro nečleny klubu: Chcete-li
  přijít\, doporučujeme je výhodnější udělat si minimálně základ
 ní členství. Lze koupit vstupenku ale i bez členství - pokud se regis
 trujete do klubu bez členství a pak podepište smskou naše NDA. Pokud u
 važujete reálně investovat a je-li tento druh investování pro Vás vh
 odný\, je  vstupné a členství maličkost. Děkujeme za pochopení.\n\
 nPřihlášení níže. Těšíme se na setkání.\n\nPetr Šedivý\n\n&nb
 sp\;
ATTACH;FMTTYPE=image/jpeg:https://ventureclub.cz/wp-content/uploads/2024/0
 1/sigil_gilbraltar.png
CATEGORIES:Den D
LOCATION:Park Atrium u spol. 2N\, Pod Vinicí 2028/20\, Praha 12\, Česká 
 republika
GEO:50.0158484;14.404343599999947
X-APPLE-STRUCTURED-LOCATION;VALUE=URI;X-ADDRESS=Pod Vinicí 2028/20\, Praha
  12\, Česká republika;X-APPLE-RADIUS=100;X-TITLE=Park Atrium u spol. 2N:
 geo:50.0158484,14.404343599999947
END:VEVENT
BEGIN:VTIMEZONE
TZID:Europe/Prague
X-LIC-LOCATION:Europe/Prague
BEGIN:STANDARD
DTSTART:20231029T020000
TZOFFSETFROM:+0200
TZOFFSETTO:+0100
TZNAME:CET
END:STANDARD
END:VTIMEZONE
END:VCALENDAR