BEGIN:VCALENDAR
VERSION:2.0
PRODID:-//wp-events-plugin.com//7.2.3.1//EN
BEGIN:VEVENT
UID:522@ventureclub.cz
DTSTART;TZID=Europe/Prague:20241022T170000
DTEND;TZID=Europe/Prague:20241022T203000
DTSTAMP:20241017T204822Z
URL:https://ventureclub.cz/udalost/den-d-63/
SUMMARY:Den D 63 Třetí tranše SANEZOO SE a jiné novinky projektů
DESCRIPTION:Den D 63 - věnujeme SANEZOO SE\, běží třetí tranše\, ke 
 které se dá přidat a koupit akcie firmy\, dokonce v akci 1+3= s 50% sle
 vou. Možnost investice je stále i do ZEBRA Faktoringu\, Galen Clinic dlu
 hopisu\, nebo SANEZOO SE dluhopisu. A protože jste již déle neřešili 
 novinky u ostatních projektů\,  pověnujeme se i jim a odpovíme\, co b
 udete chtít vědět.\n\nSANEZOO SE je velmi nadějná mladá firma\, kde 
 jsme součástí vedení - ve správní radě a na pozici CFO. Aktuálně 
 od poloviny roku má nové vedení a nový obchodní team. Nový organigra
 m\, nové produkty a čerstvě aktualizované obchodní plány. Z desítek
  milionů Kč obratu v roce 2024 má mít 100 mil obrat a polovinu z toho 
 jako zisk v roce 2025. Prodávat by se mohla v roce 2027\, do Ameriky. A i
 deální zpráva na závěr? Můžete přes nás koupit nyní 4 akcie za c
 enu 2. Na každých 100 ks akcií za 1600 Kč si můžete koupit další -
  levnější. Nabídka platí do vyprodání.\n\nBližší informace k pro
 jektu najdete v sekci Investice (po přihlášení do webu klubu i včetn
 ě materiálů ke stáhnutí) cca týden před akcí. Doporučujeme\, pod
 ívejte se na teaser  včetně prezentací předem\, lépe si připravít
 e otázky. Další materiály - BP - jsou již publikované (pro členy kl
 ubu s podepsaným NDA) také.\n\nProgram:\n\n17:00 - 18:00 představení 
 účastníků\, komentář k novinkám v klubu\, otevřené investice ZEBR
 A faktoring\, GALEN CLINIC\, Dluhopisy\n\n18:00 - 19:00 Prezentace DenD 63
   Třetí tranše SANEZOO SE\, nákup akcií\n\n19:00 - 20:20 Ostatní za
 investované projekty\n\nDen D je dostupný členům VENTURE CLUBU ON-LINE
  i OSOBNĚ\, nicméně jen po předchozím přihlášení níže.  Drobn
 é občerstvení zajištěno.\n\nPro nečleny klubu také\, ale po úhrad
 ě vstupného. Chcete-li přijít\, doporučujeme je výhodnější uděl
 at si minimálně základní členství. Lze koupit vstupenku ale i bez č
 lenství - pokud se registrujete do klubu bez členství a pak podepište 
 smskou naše NDA (po registraci předem ho pošleme a podepisuje se pomoc
 í sms). Pokud uvažujete reálně investovat a je-li tento druh investov
 ání pro Vás vhodný\, je  vstupné a členství maličkost. Děkujeme 
 za pochopení.\n\nPro starší investory SANEZOO SE z doby před vstupem V
 enture Club investorů do projektu: prosím\, přihlaste se na extra líst
 ek viz níže. Máme snahu  informovat všechny\, nejen "naše" investory
  SANEZOO. Platí pro on-line účast. Pro osobní účast hostů nečlenů
  klubu platí vstupné níže.\n\nTěšíme se na setkání.\n\nPetr Šedi
 vý\n\n&nbsp\;
ATTACH;FMTTYPE=image/jpeg:https://ventureclub.cz/wp-content/uploads/2024/0
 9/SNZ3jpg.jpg
CATEGORIES:Den D
LOCATION:Park Atrium u spol. 2N\, Pod Vinicí 2028/20\, Praha 12\, Česká 
 republika
GEO:50.0158484;14.404343599999947
X-APPLE-STRUCTURED-LOCATION;VALUE=URI;X-ADDRESS=Pod Vinicí 2028/20\, Praha
  12\, Česká republika;X-APPLE-RADIUS=100;X-TITLE=Park Atrium u spol. 2N:
 geo:50.0158484,14.404343599999947
END:VEVENT
BEGIN:VTIMEZONE
TZID:Europe/Prague
X-LIC-LOCATION:Europe/Prague
BEGIN:DAYLIGHT
DTSTART:20240331T030000
TZOFFSETFROM:+0100
TZOFFSETTO:+0200
TZNAME:CEST
END:DAYLIGHT
END:VTIMEZONE
END:VCALENDAR