BEGIN:VCALENDAR
VERSION:2.0
PRODID:-//wp-events-plugin.com//7.2.3.1//EN
BEGIN:VEVENT
UID:533@ventureclub.cz
DTSTART;TZID=Europe/Prague:20241105T170000
DTEND;TZID=Europe/Prague:20241105T203000
DTSTAMP:20241031T163842Z
URL:https://ventureclub.cz/udalost/den-d-64/
SUMMARY:Den D 64 Bioplynová stanice VM
DESCRIPTION:Bioplynová stanice ve Velkém Meziříčí: aktuálně výroba
  elektřiny (999kW)\, v přípravě přechod na čištění bioplynu a vtl
 áčení biometanu do sítě\, zpracování převážně organických odpa
 dů včetně zařízení na rozbalování prošlých balených potravin\, 
 případně nabízející se možnost využití pro stabilizaci elektrick
 é sítě… je programem dalšího dne D\, již 64. v pořadí. Energetik
 a hýbe světem a nabízí se dobrá možnost participovat na existující
 m projektu\, kde je společníkem Petr Marek\, zakládající člen klubu.
  (Stávající firma\, kde můžeme koupit podíl\, převzala projekt po p
 ůvodním problematickém majiteli\, provedla nezbytné opravy a úpravy a
  bioplynovou stanici znovu zprovoznila). Projekt nemusí být dlouhý… p
 o dvou třech letech plánujeme prodej zaběhnuté vylepšené biometanov
 é stanice pro někoho\, kdo chce „zelenou“ investici se stabilním v
 ýnosem dlouhodobě provozovat. \n\nBližší informace k projektu najdet
 e v sekci Investice (po přihlášení do webu klubu i včetně materiál
 ů ke stáhnutí) cca týden před akcí. Doporučujeme\, podívejte se na
  teaser  včetně prezentací předem\, lépe si připravíte otázky. Da
 lší materiály - BP - jsou již publikované (pro členy klubu s podepsa
 ným NDA) také.\n\nProgram:\n\n17:00 - 18:00 představení účastníků\
 , komentář k novinkám v klubu\n\n18:00 - 20:20 Prezentace DenD 64 Biopl
 ynová stanice Velké Meziříčí\, Petr Marek\n\n&nbsp\;\n\nDen D je dos
 tupný členům VENTURE CLUBU ON-LINE i OSOBNĚ\, nicméně jen po předch
 ozím přihlášení níže a podpisu NDA. Pro členy s základním člens
 tvím jen po úhradě vstupného\, jedno zda se účastní osobně nebo on
 -line. Drobné občerstvení zajištěno.\n\nPro nečleny klubu: Chcete-li
  přijít\, doporučujeme je výhodnější udělat si minimálně základ
 ní členství. Lze koupit vstupenku ale i bez členství - pokud se regis
 trujete do klubu bez členství a pak podepište smskou naše NDA (po regi
 straci předem ho pošleme a podepisuje se pomocí sms). Pokud uvažujete 
 reálně investovat a je-li tento druh investování pro Vás vhodný\, je
   vstupné a členství maličkost. Děkujeme za pochopení.\n\nPřihlá
 šení níže. Těšíme se na setkání.\n\nPetr Šedivý\n\n&nbsp\;
ATTACH;FMTTYPE=image/jpeg:https://ventureclub.cz/wp-content/uploads/2024/1
 0/BS_VM_102024mensi.jpg
CATEGORIES:Den D
LOCATION:Park Atrium u spol. 2N\, Pod Vinicí 2028/20\, Praha 12\, Česká 
 republika
GEO:50.0158484;14.404343599999947
X-APPLE-STRUCTURED-LOCATION;VALUE=URI;X-ADDRESS=Pod Vinicí 2028/20\, Praha
  12\, Česká republika;X-APPLE-RADIUS=100;X-TITLE=Park Atrium u spol. 2N:
 geo:50.0158484,14.404343599999947
END:VEVENT
BEGIN:VTIMEZONE
TZID:Europe/Prague
X-LIC-LOCATION:Europe/Prague
BEGIN:STANDARD
DTSTART:20241027T020000
TZOFFSETFROM:+0200
TZOFFSETTO:+0100
TZNAME:CET
END:STANDARD
END:VTIMEZONE
END:VCALENDAR