BEGIN:VCALENDAR
VERSION:2.0
PRODID:-//wp-events-plugin.com//7.2.3.1//EN
BEGIN:VEVENT
UID:601@ventureclub.cz
DTSTART;TZID=Europe/Prague:20250610T170000
DTEND;TZID=Europe/Prague:20250610T203000
DTSTAMP:20250610T143017Z
URL:https://ventureclub.cz/udalost/den-d-67-dynanic/
SUMMARY:Den D 67 DynaNIC Semiconductors
DESCRIPTION:Den D 67 – věnujeme možnosti získat investice vítězi Ve
 nture Club Disrupt Awards 2025 pořádaném 3.6.2025: DynaNIC Semiconduct
 ors. Startup vyvíjí softwarové řešení\, které z běžné FPGA kart
 y udělá výkonný a flexibilní SmartNIC – rychle a bez nutnosti znalo
 sti FPGA programování. DynaNIC tak zpřístupňuje potenciál FPGA techn
 ologií pro AI\, storage i bezpečnostní aplikace a jako jediné řešen
 í na trhu umožňuje vytvořit 400Gb SmartNIC s možností škálování 
 až do terabitových rychlostí. Současně zvyšuje efektivitu a výkon c
 ílových aplikací. Firma spolupracuje s všemi hlavními výrobci FPG ka
 ret.\n\nTechnologie je zajímavá pro firmy typu Microsoft\, Amazon\, Goog
 le či další velké korporáty. Předchozí kolo investici Dynanic získ
 al od Tensor Ventures Fund. Aktuální kolo by mělo být rozloženo na dv
 a roky a může být až v objemu 2.5 mil. Eur.\n\nPro lepší posouzení 
 investiční příležitost získal vítěz soutěžního večera možnost
  prezentace projektu 10.6.\, týden po soutěži. Pokud se bude i zde proj
 ekt líbit\, dojde k zasmluvnění a investici dostane. Tak jako mnoho jin
 ých před ním a věřím i další po něm. \n\nBližší in formace k 
 projektu najdete zde. Doporučujeme\, podívejte se na podklady před prez
 entací.\n\n&nbsp\;\n\nNaprogramovat:\n\n17:00 - 18:00 představení úča
 stníků\, komentář k novinkám v klubu:\n\n18:00 - 20:20 Prezentace pro
 jektu - vítěze Venture Club Disrupt Awards 2025 DynaNIC semiconductors\,
 \n\nPrezentující: CTO společnosti Lukas Kekely a  CSO Jan Kořenek\n\n
 &nbsp\;\n\nDen D je dostupný členům VENTURE CLUBU ON-LINE i OSOBNĚ \, 
 nicméně jen po předchozím přihlášení níže a podpisu NDA. Pro čl
 eny se základním členstvím jen po úhradě vstupného\, ​​pokud se
  zúčastníte osobně nebo on-line. Drobné občerstvení zajištěno.\n\
 nPro nečleny klubu: Chcete-li přijít\, doporučujeme je výhodnější 
 udělat si minimálně základní členství. Lze koupit vstupenku ale i b
 ez členství - pokud se registrujete do klubu bez členství a pak podepi
 šte smskou naši NDA (po registraci předem ho pošlete a podepisuji se p
 omocí sms). Pokud uvažujete reálně investovat a je-li tento druh inves
 tování pro Vás vhodný\, je vstupné a členství - věříme - maličk
 ost. Děkujeme za pochopení.\n\nPřihlášení níže. Těšíme se na se
 tkání.\n\nPetr Šedivý\n\n&nbsp\;
ATTACH;FMTTYPE=image/jpeg:https://ventureclub.cz/wp-content/uploads/2025/0
 5/Dynanic_efficiently.png
CATEGORIES:Den D
LOCATION:Park Atrium u spol. 2N\, Pod Vinicí 2028/20\, Praha 12\, Česká 
 republika
GEO:50.0158484;14.404343599999947
X-APPLE-STRUCTURED-LOCATION;VALUE=URI;X-ADDRESS=Pod Vinicí 2028/20\, Praha
  12\, Česká republika;X-APPLE-RADIUS=100;X-TITLE=Park Atrium u spol. 2N:
 geo:50.0158484,14.404343599999947
END:VEVENT
BEGIN:VTIMEZONE
TZID:Europe/Prague
X-LIC-LOCATION:Europe/Prague
BEGIN:DAYLIGHT
DTSTART:20250330T030000
TZOFFSETFROM:+0100
TZOFFSETTO:+0200
TZNAME:CEST
END:DAYLIGHT
END:VTIMEZONE
END:VCALENDAR