BEGIN:VCALENDAR
VERSION:2.0
PRODID:-//wp-events-plugin.com//7.2.3.1//EN
BEGIN:VEVENT
UID:619@ventureclub.cz
DTSTART;TZID=Europe/Prague:20251014T170000
DTEND;TZID=Europe/Prague:20251014T210000
DTSTAMP:20251014T072326Z
URL:https://ventureclub.cz/udalost/den-d-68-bali21/
SUMMARY:Den D 68 BALA21
DESCRIPTION:Vážení investoři\, investorky\n\nrádi bychom Vás pozvali 
 na prezentaci společnosti BALA21 (Balance21)\, která se specializuje na
  vývoj\, výrobu a distribuci kvalitních probiotik. Cílem prezentace je
  detailně se seznámit s jejich produkty\, filozofií firmy a možnostmi 
 spolupráce.\n\nProč přijít?\n\n 	Zjistíte více o inovativních probi
 otických produktech a jejich přínosech pro zdraví.\n 	Dozvíte se o zk
 ušenostech a výsledcích společnosti na trhu.\n 	Budete mít možnost d
 iskutovat přímo se zástupci firmy a získat odpovědi na své otázky.\
 n 	Společně posoudíme\, zda je pro nás investice do této společnosti
  zajímavou příležitostí.\n\nVíce informací o společnosti ZDE\n\n&n
 bsp\;\n\nProgram: bude upřesněn\n\n&nbsp\;\n\nDen D je dostupný členů
 m VENTURE CLUBU ON-LINE i OSOBNĚ \, nicméně jen po předchozím přihl
 ášení níže a podpisu NDA. Pro členy se základním členstvím jen p
 o úhradě vstupného\, ​​pokud se zúčastníte osobně nebo on-line.
  Drobné občerstvení zajištěno.\n\nPro nečleny klubu: Chcete-li přij
 ít\, doporučujeme je výhodnější udělat si minimálně základní č
 lenství. Lze koupit vstupenku ale i bez členství - pokud se registrujet
 e do klubu bez členství a pak podepište smskou naši NDA (po registraci
  předem ho pošlete a podepisuji se pomocí sms). Pokud uvažujete reáln
 ě investovat a je-li tento druh investování pro Vás vhodný\, je vstup
 né a členství - věříme - maličkost. Děkujeme za pochopení.\n\nPř
 ihlášení níže. Těšíme se na setkání.\n\nPetr Šedivý\n\n&nbsp\;
ATTACH;FMTTYPE=image/jpeg:https://ventureclub.cz/wp-content/uploads/2025/0
 9/Bali21.png
CATEGORIES:Den D
LOCATION:Park Atrium u spol. 2N\, Pod Vinicí 2028/20\, Praha 12\, Česká 
 republika
GEO:50.0158484;14.404343599999947
X-APPLE-STRUCTURED-LOCATION;VALUE=URI;X-ADDRESS=Pod Vinicí 2028/20\, Praha
  12\, Česká republika;X-APPLE-RADIUS=100;X-TITLE=Park Atrium u spol. 2N:
 geo:50.0158484,14.404343599999947
END:VEVENT
BEGIN:VTIMEZONE
TZID:Europe/Prague
X-LIC-LOCATION:Europe/Prague
BEGIN:DAYLIGHT
DTSTART:20250330T030000
TZOFFSETFROM:+0100
TZOFFSETTO:+0200
TZNAME:CEST
END:DAYLIGHT
END:VTIMEZONE
END:VCALENDAR