BEGIN:VCALENDAR
VERSION:2.0
PRODID:-//wp-events-plugin.com//7.2.3.1//EN
BEGIN:VEVENT
UID:629@ventureclub.cz
DTSTART;TZID=Europe/Prague:20251202T170000
DTEND;TZID=Europe/Prague:20251202T200000
DTSTAMP:20251127T162146Z
URL:https://ventureclub.cz/udalost/den-d-69/
SUMMARY:Den D 69 a ještě jeden projekt
DESCRIPTION:Rozhodli jsem se Vám představit na poslední chvíli ještě 
 jeden projekt a to Molecule 46.\n\nMolecule 46 s.r.o. je český biotechno
 logický start-up\, který vyvíjí unikátní patentovanou technologii pr
 o separaci nepoškozených spermií. Tato inovace má zásadní význam pr
 o asistovanou reprodukci u lidí i pro moderní chovatelské strategie u z
 vířat. Firma staví na silném vědeckém základu\, mezinárodně uzná
 vaném zakladateli a jasné cestě k regulaci. Projekt má reálný spole
 čenský dopad\, podporu odborné veřejnosti a ambice uspět na globáln
 ím trhu s řešeními pro léčbu neplodnosti.\n\nProč přijít?\n\n 	Sp
 olečně posoudíme\, zda je pro nás investice do této společnosti zaj
 ímavou příležitostí.\n 	Podíváme se dva projekty otevřené projekt
 y a novinky v nich: HotDiamonds a Bala21\n 	Otázky a odpovědi\, diskuze\
 n\nProgram:\n\n17:00 - 18.00      Molecule46\, Prof. Katerina Komrskova
 \, Ph.D.\, Founder and CEO\n\n 18:15 - 20.00      HotDiamods a Bala 21\
 , vedení klubu a hosté\n\nDen D je dostupný členům VENTURE CLUBU ON-L
 INE i OSOBNĚ \, nicméně jen po předchozím přihlášení níže a pod
 pisu NDA. Pro členy se základním členstvím jen po úhradě vstupného
 \, ​​pokud se zúčastníte osobně nebo on-line. Drobné občerstven
 í zajištěno.\n\nPro nečleny klubu: Chcete-li přijít\, doporučujeme 
 je výhodnější udělat si minimálně základní členství. Lze koupit
  vstupenku ale i bez členství - pokud se registrujete do klubu bez člen
 ství a pak podepište smskou naši NDA (po registraci předem ho pošlete
  a podepisuji se pomocí sms). Pokud uvažujete reálně investovat a je-l
 i tento druh investování pro Vás vhodný\, je vstupné a členství - v
 ěříme - maličkost. Děkujeme za pochopení.\n\nPřihlášení níže. 
 Těšíme se na setkání.\n\nPetr Šedivý\n\n&nbsp\;
ATTACH;FMTTYPE=image/jpeg:https://ventureclub.cz/wp-content/uploads/2025/1
 1/molecule46_obr.jpg
CATEGORIES:Den D
LOCATION:Park Atrium u spol. 2N\, Pod Vinicí 2028/20\, Praha 12\, Česká 
 republika
GEO:50.0158484;14.404343599999947
X-APPLE-STRUCTURED-LOCATION;VALUE=URI;X-ADDRESS=Pod Vinicí 2028/20\, Praha
  12\, Česká republika;X-APPLE-RADIUS=100;X-TITLE=Park Atrium u spol. 2N:
 geo:50.0158484,14.404343599999947
END:VEVENT
BEGIN:VTIMEZONE
TZID:Europe/Prague
X-LIC-LOCATION:Europe/Prague
BEGIN:STANDARD
DTSTART:20251026T020000
TZOFFSETFROM:+0200
TZOFFSETTO:+0100
TZNAME:CET
END:STANDARD
END:VTIMEZONE
END:VCALENDAR