BEGIN:VCALENDAR
VERSION:2.0
PRODID:-//wp-events-plugin.com//7.2.3.1//EN
BEGIN:VEVENT
UID:678@ventureclub.cz
DTSTART;TZID=Europe/Prague:20260127T170000
DTEND;TZID=Europe/Prague:20260127T200000
DTSTAMP:20260125T102301Z
URL:https://ventureclub.cz/udalost/den-d-70-veterinary/
SUMMARY:Den D 70 VETERINARY
DESCRIPTION:První Den D v roce 2026\, celkově již 70.\, představíme VE
 TERINARY\, síť pohotovostí. Trh mazlíčků - psích a kočičích čle
 nů rodiny - skýtá mnohé příležitosti.  Po dobré zkušenosti s PET
 EXPERT - pojištěním psů a koček\, plánujeme další investici v segm
 entu veterinární medicíny. Přeci jen\, v ČR je na 3 miliony potenciá
 lních zájemců o využití služeb projektu. Připravovaný projekt star
 tuje v polovině roku 2026. Pokud jste členy Venture Clubu\, po přihlá
 šení najdete v sekci Investice již nyní detailní popis\, včetně pre
 zentace a business plánu. Podívejte se.\n\nVíce zveřejníme pro účas
 tníky večera\, po podpisu NDA ať už předem\, nebo na místě. Těší
 me se 27.1. večer na viděnou - bude to stát za to. Až přijdete\, poch
 opíte...\n\nProgram:\n\n17:00 - 18.00      Klubová agenda\, aktualiz
 ace k BALA21 a SANEZOOSE - další dvě investice\, kde se lze zapojit\n\n
  18:15 - 20.00      VETERINARY\, prezentují foundři\, které vlastně
  znáte...\n\nDen D je dostupný členům VENTURE CLUBU ON-LINE i OSOBNĚ 
 \, nicméně jen po předchozím přihlášení níže a podpisu NDA. Pro 
 členy se základním členstvím jen po úhradě vstupného\, ​​pokud
  se zúčastníte osobně nebo on-line. Drobné občerstvení zajištěno.
 \n\nPro nečleny klubu: Chcete-li přijít\, doporučujeme je výhodnějš
 í udělat si minimálně základní členství. Lze koupit vstupenku ale 
 i bez členství - pokud se registrujete do klubu bez členství a pak pod
 epište smskou naši NDA (po registraci předem ho pošlete a podepisuji s
 e pomocí sms). Pokud uvažujete reálně investovat a je-li tento druh in
 vestování pro Vás vhodný\, je vstupné a členství - věříme - mali
 čkost. Děkujeme za pochopení.\n\nPřihlášení níže. Těšíme se na
  setkání.\n\nPetr Šedivý\n\n&nbsp\;
ATTACH;FMTTYPE=image/jpeg:https://ventureclub.cz/wp-content/uploads/2026/0
 1/closed.jpg
CATEGORIES:Den D
LOCATION:Park Atrium u spol. 2N\, Pod Vinicí 2028/20\, Praha 12\, Česká 
 republika
GEO:50.0158484;14.404343599999947
X-APPLE-STRUCTURED-LOCATION;VALUE=URI;X-ADDRESS=Pod Vinicí 2028/20\, Praha
  12\, Česká republika;X-APPLE-RADIUS=100;X-TITLE=Park Atrium u spol. 2N:
 geo:50.0158484,14.404343599999947
END:VEVENT
BEGIN:VTIMEZONE
TZID:Europe/Prague
X-LIC-LOCATION:Europe/Prague
BEGIN:STANDARD
DTSTART:20251026T020000
TZOFFSETFROM:+0200
TZOFFSETTO:+0100
TZNAME:CET
END:STANDARD
END:VTIMEZONE
END:VCALENDAR