BEGIN:VCALENDAR
VERSION:2.0
PRODID:-//wp-events-plugin.com//7.2.3.1//EN
BEGIN:VEVENT
UID:680@ventureclub.cz
DTSTART;TZID=Europe/Prague:20260217T180000
DTEND;TZID=Europe/Prague:20260217T203000
DTSTAMP:20260216T074928Z
URL:https://ventureclub.cz/udalost/den-d-71-rekapitulace-klubovych-projekt
 u/
SUMMARY:DEN D 71 Novinky v projektech
DESCRIPTION:Vážení členové a partneři Venture Clubu\,\ndovolujeme si 
 Vás srdečně pozvat na DEN D\, akci\, během níž společně zrekapitul
 ujeme investiční projekty. Ohlédneme se za dosaženými milníky\, pod
 ělíme se o zkušenosti\, poznatky i plány do budoucna. (Minimálně u t
 ěch projektů\, kde cítíme nyní větší nutnost je společně diskuto
 vat: HE3DA\, ZEBRA\, TWISTCAFE\, plus k investování otevřené VETERINAR
 Y\, BALA21\, a TVF)\nČeká Vás:\n✅ přehled projektů a jejich vývoje
 \n18:00 Petr Šedivý - projekty\n18:30 Ondřej Lipold - Tensor Ventures F
 und 1 a 2\n19:15 Hanka Krásová - Bala21\n20:00 Neformální diskuze\n✅
  prezentace novinek✅ diskuse nad výsledky i vizemi✅ networking s inve
 story a odborníky\n\n\n 	He3DA / MES– česká technologická společnos
 t zaměřená na vývoj a výrobu lithium-iontových baterií plánuje dal
 ší pokračování i vypořádání půjček. Již víme více\, povíme.
 \n 	Twist – síť kaváren s trdelníky\, či květinářství získala 
 investora\, již je to jisté. Představíme možnosti.\n 	Zebra – autom
 obilka je sice v insolvenci\, ale jednáme se zájemcem a hledáme cesty p
 ro novou budoucnost projektu\n 	Veterinary – veterinární projekt zamě
 řený na rozvoj ambulantní pohotovostní péře\, kde zvažujeme investi
 ci po zkušenosti z Petexpert.\n 	Bala21 – obchodní společnost a novin
 ky v projektu paní Hanky Krásové\n 	Tensor Ventures Fund - první fond 
 plánuje exity\, druhý náběr dalších investorů. Referuje Ondřej Lip
 old a akce navazuje na Annual meeting TVF 5.2.2026\n\n&nbsp\;\nPřijďte s
 i připomenout\, kam jsme se společně posunuli – a kam směřujeme dá
 l.\n🛑 Akce je určena nejen pro členy Venture Clubu..\nObčerstvení z
 ajištěno.\nTěšíme se na setkání!Tým Venture Clubu
ATTACH;FMTTYPE=image/jpeg:https://ventureclub.cz/wp-content/uploads/2026/0
 2/sal.jpg
CATEGORIES:Den D
LOCATION:Park Atrium u spol. 2N\, Pod Vinicí 2028/20\, Praha 12\, Česká 
 republika
GEO:50.0158484;14.404343599999947
X-APPLE-STRUCTURED-LOCATION;VALUE=URI;X-ADDRESS=Pod Vinicí 2028/20\, Praha
  12\, Česká republika;X-APPLE-RADIUS=100;X-TITLE=Park Atrium u spol. 2N:
 geo:50.0158484,14.404343599999947
END:VEVENT
BEGIN:VTIMEZONE
TZID:Europe/Prague
X-LIC-LOCATION:Europe/Prague
BEGIN:STANDARD
DTSTART:20251026T020000
TZOFFSETFROM:+0200
TZOFFSETTO:+0100
TZNAME:CET
END:STANDARD
END:VTIMEZONE
END:VCALENDAR