BEGIN:VCALENDAR
VERSION:2.0
PRODID:-//wp-events-plugin.com//7.2.3.1//EN
BEGIN:VEVENT
UID:177@ventureclub.cz
DTSTART;TZID=Europe/Prague:20201201T170000
DTEND;TZID=Europe/Prague:20201201T200000
DTSTAMP:20221007T080806Z
URL:https://ventureclub.cz/udalost/den-d-czechworms/
SUMMARY:Den D 36 Czech Worms
DESCRIPTION:Věděli jste\, že živočišná výroba představuje jednoho 
 z největších producentů skleníkových plynů? \n\nCelková produkce t
 ěchto plynů představuje 7\,1 gigatun ekvivalentu CO2ročně\, což je 1
 4\,5 % všech antropogenních emisí skleníkových plynů. Nejvíce produ
 kovaným plynem v tomto odvětví je metan\, který představuje 44% emis
 í skleníkových plynů v živočišné výrobě.\n\nPři porovnávání 
 sledovaných druhů jedlého hmyzu a hospodářských zvířat bylo zjišt
 ěno\, že jedlý hmyz produkuje řádově 100 –1000 krát méně oxidu 
 uhličitého než hospodářská zvířata. Tento rozdíl je dle Quinlan a
  Gibbs (2006) způsoben fyziologií dýchání hmyzu a to především nes
 ouvislým výdejem oxidu uhličitého z organismu\, což má za úkol sní
 žit výdej vody z těla hmyzu.\n\nJedním z zajímavých jedlých druhů 
 je potemník moučný... možná náhrada proteinů\, použitelná jak pro
  zverimex\, tak i v stravování nás\, lidí.\n\nPodíváme se na projekt
  hmyzí farmy\, zaměřený na produkci právě potemníka moučného - a 
 zajímavou investici.\n\nNevěříte? Dobrým příkladem můžou být cvr
 čci... a investici pana Janečka\, firmu Sens\, kde dnes dodávají za de
 sítky milionů Kč měsíčně své produkty a uvažují o expanzi do Ně
 mecka. Náš zájemce o investici na začátek uvažuje dodávat pro chova
 tele\, přes zverimex.\n\nVečer od 17 hodin věnujeme na začátku rekapi
 tulaci projektů\, představíme se vzájemně.\n\nOd 18ti hodin pak pobě
 ží vlastní prezentace projektu Czech Worms\, pana Petra Havelky\, ze V
 šetat a jeho červí farmě\, kterou přes rok buduje.\n\nPodklady najdou
  členové Venture Clubu jako obvykle v části Investice - projekty - Cze
 ch Worms.\n\n     \n\nPro přihlášení prosím použijte registraci ní
 že - před večerem pak obdržíte link na přihlášení. Během večera
  bude prostor na dotazy\, ať už přes chat\, či osobně. Stačí Vám P
 C s připojením do internetu\, lépe s kamerou a mikrofonem. Opakované p
 řihlášení na akci je možné jen členům Venture Clubu. Nemáte člen
 ství a už jste u nás byli? Udělejte si registraci do klubu a můžete 
 se přihlásit. První návštěva je možná i bez členství.\n\nDěkuje
 me a těšíme se na zajímavý večer.\n\nPetr Šedivý\n\nVenture Club z
 .s.
ATTACH;FMTTYPE=image/jpeg:https://ventureclub.cz/wp-content/uploads/2022/0
 8/cw_obr.png
CATEGORIES:Den D
LOCATION:Microsoft Teams Meeting\, online\, Praha 1\, Česká republika
GEO:50.0887101;14.4155981
X-APPLE-STRUCTURED-LOCATION;VALUE=URI;X-ADDRESS=online\, Praha 1\, Česká 
 republika;X-APPLE-RADIUS=100;X-TITLE=Microsoft Teams Meeting:geo:50.088710
 1,14.4155981
END:VEVENT
BEGIN:VTIMEZONE
TZID:Europe/Prague
X-LIC-LOCATION:Europe/Prague
BEGIN:STANDARD
DTSTART:20201025T020000
TZOFFSETFROM:+0200
TZOFFSETTO:+0100
TZNAME:CET
END:STANDARD
END:VTIMEZONE
END:VCALENDAR