BEGIN:VCALENDAR
VERSION:2.0
PRODID:-//wp-events-plugin.com//7.2.3.1//EN
BEGIN:VEVENT
UID:170@ventureclub.cz
DTSTART;TZID=Europe/Prague:20201020T180000
DTEND;TZID=Europe/Prague:20201020T200000
DTSTAMP:20221007T074244Z
URL:https://ventureclub.cz/udalost/dend-3d-tiskarny-nove/
SUMMARY:Den D 3D tiskárny nově
DESCRIPTION:„Věděli jste\, že v Německu každá 5. firma využívá 3
 D tisk?"\n\nJedním z důvodů\, proč tomu tak není ve světě\, včetn
 ě České republiky\, je jeho uživatelská složitost. Ne každá firma 
 má kapacitu na vyčlenění zaměstnance speciálně pro obsluhu 3D tisku
 . Tento problém řeší pomocí 3D tiskárny s vlastní patentovatelnou 
 technologií nadějný startup\, který vám představíme. Kromě uživat
 elské jednoduchosti je výhodou zmíněné 3D tiskárny i profesionální
  tisk a ekonomická výhodnost.\n\nPrezentaci a další informace najdou 
 členové po přihlášení v portálu klubu\, jako obvykle.\n\nOd 18ti ho
 din poběží prezentace projektu. Několik účastníků z řádných čl
 enů klubu se účastní fyzicky\, jde o pracovní setkání\, ostatní sl
 edují projekt na dálku.\n\nPo registraci na akci obdržíte link na kter
 ý se můžete přihlásit v den a hodinu konání akce. Účast online je
  zdarma.\n\nSrdečně zve\n\nPetr Šedivý
ATTACH;FMTTYPE=image/jpeg:https://ventureclub.cz/wp-content/uploads/2022/0
 8/Dolphin2obrys.png
CATEGORIES:Den D
LOCATION:Park Atrium u spol. 2N\, Pod Vinicí 2028/20\, Praha 12\, Česká 
 republika
GEO:50.0158484;14.404343599999947
X-APPLE-STRUCTURED-LOCATION;VALUE=URI;X-ADDRESS=Pod Vinicí 2028/20\, Praha
  12\, Česká republika;X-APPLE-RADIUS=100;X-TITLE=Park Atrium u spol. 2N:
 geo:50.0158484,14.404343599999947
END:VEVENT
BEGIN:VTIMEZONE
TZID:Europe/Prague
X-LIC-LOCATION:Europe/Prague
BEGIN:DAYLIGHT
DTSTART:20200329T030000
TZOFFSETFROM:+0100
TZOFFSETTO:+0200
TZNAME:CEST
END:DAYLIGHT
END:VTIMEZONE
END:VCALENDAR