BEGIN:VCALENDAR
VERSION:2.0
PRODID:-//wp-events-plugin.com//7.2.3.1//EN
BEGIN:VEVENT
UID:91@ventureclub.cz
DTSTART;TZID=Europe/Prague:20190207T180000
DTEND;TZID=Europe/Prague:20190207T180000
DTSTAMP:20221007T075746Z
URL:https://ventureclub.cz/udalost/diskuzni-vecer-se-zajimavym-hostem/
SUMMARY:Diskuzní večer s prof. Jiřím Drahošem
DESCRIPTION:Na 7. února /čtvrtek/ jsme připravili zajímavou akci - ve s
 polupráci s klubem Vyšehrad - tentokrát na jiném místě než obvykle 
 a s rozšířeným konceptem. Sejdeme se kousek od stanice metra C Pražsk
 ého povstání - v klubu Vyšehrad. Večer bude mít dvě části - na di
 skuzní večer naváže společenská část\, networking\, všech účast
 níků. K dispozici bude občerstvení\, vínko\, příjemnou atmosféru d
 otvoří klavírní doprovod. Klub bude otevřený do půlnoci. Přijít m
 ůžete jen na diskuzi\, stejně tak na obě části.\n\nHostem diskuzníh
 o večera bude pan senátor prof. Jiří Drahoš a jsme velmi rádi\, že 
 se setkání povedlo domluvit. Témat bude více\, počítáme s možnost
 í pokládat otázky.\n\nPana prof. Jiřího Drahoše pravděpodobně zná
 te\, ale pro pořádek:je to český vědec\, chemik\, vysokoškolský 
 učitel\, který v období 2009 až 2017 zastával funkci předsedy Akad
 emie věd České republiky. V roce 2018 kandidoval ve volbách na ú
 řad prezidenta České republiky. Spolu s Milošem Zemanem postoupil 
 do druhého kola\, v němž s ním prohrál po obdržení 48\,63 % pla
 tných hlasů\, tj. 2 701 206 hlasů. V říjnu 2018 byl zvolen senát
 orem za obvod č. 20 – Praha 4 se ziskem 52\,65 % hlasů již v prvn
 ím kole volby.\n\nSpolečenská networkingová část umožní poznat nov
 é lidi\, sdílet zkušenosti. Určitě bude příležitost pozdravit osob
 ně i pana prof. Drahoše. Čekají nás kanapky\, řízečky\,.. něco do
 brého k pití. Hrát bude klavír a můžeme povídat dlouho. Přestože 
 druhý den - pátek ráno - navazuje klubová snídaně v 8 hodin\, určit
 ě si to užijeme :-)\n\nProsíme o rezervaci\, míst je omezený počet i
  s přihlédnutím k tomu\, že se scházejí kluby dva. Vyberte si vstup\
 , co Vám vyhovuje: Můžete přijít i jako nečlenové - v tom případ
 ě počítejte se vstupným 1.000 Kč. Členové mají první a druhou č
 ást večera s občerstvením za vstupné v ceně 600 Kč. Vstup jen na p
 řednášku zdarma už není možný - kapacita účastníků pouze pro p
 řednášku je vyčerpána.\n\nTěšíme se na setkání s Vámi.\n\nZdrav
 í\n\nPetr Šedivý a Jan Očenášek
ATTACH;FMTTYPE=image/jpeg:https://ventureclub.cz/wp-content/uploads/2019/0
 1/diskuze_drahos_1.jpg
CATEGORIES:Prezentace
LOCATION:Klub Vyšehrad\, Bohuslava ze Švamberka 1686/4\, Praha 4\, 14000\
 , Česká republika
GEO:50.0582542;14.433908900000006
X-APPLE-STRUCTURED-LOCATION;VALUE=URI;X-ADDRESS=Bohuslava ze Švamberka 168
 6/4\, Praha 4\, 14000\, Česká republika;X-APPLE-RADIUS=100;X-TITLE=Klub 
 Vyšehrad:geo:50.0582542,14.433908900000006
END:VEVENT
BEGIN:VTIMEZONE
TZID:Europe/Prague
X-LIC-LOCATION:Europe/Prague
BEGIN:STANDARD
DTSTART:20181028T020000
TZOFFSETFROM:+0200
TZOFFSETTO:+0100
TZNAME:CET
END:STANDARD
END:VTIMEZONE
END:VCALENDAR