BEGIN:VCALENDAR
VERSION:2.0
PRODID:-//wp-events-plugin.com//7.2.3.1//EN
BEGIN:VEVENT
UID:8@ventureclub.cz
DTSTART;TZID=Europe/Prague:20170124T180000
DTEND;TZID=Europe/Prague:20170124T200000
DTSTAMP:20221007T074131Z
URL:https://ventureclub.cz/udalost/dluhopisy-a-nejen-ty/
SUMMARY:Dluhopisy\, a nejen ty
DESCRIPTION:Máme začátek roku a tak i dobrou příležitost se podívat\
 , co přinesl minulý rok a nabízí letošní. Některé zajímavé pří
 ležitosti jsme objevili - a rádi se s Vámi o ně podělíme. Některé 
 znáte\, jiné nikoliv. Probereme jich více\, srovnáme a případný vý
 běr již bude na Vás.\n\nVenture Club pro své členy a zájemce o člen
 ství pořádá první letošní prezentaci s diskusí se zkušenými inve
 story. Tématem budou spíše konzervativní produkty\, přesto s velmi za
 jímavým výnosem\, při rozumném investičním horizontu.\n\nSejdeme se
  opět v paláci Konvikt\, v business centru Insignie\, velká zasedací m
 ístnost\, v prvním patře.\n\nTěšíme se na Vás.
ATTACH;FMTTYPE=image/jpeg:https://ventureclub.cz/wp-content/uploads/2017/0
 1/tab-dluhopis.jpg
CATEGORIES:Prezentace
LOCATION:palác Konvikt\, Bartolomějská 11\, Praha 1\, Praha\, hlavní m
 ěsto\, 110 00\, Česká republika
GEO:50.0830744;14.4175702
X-APPLE-STRUCTURED-LOCATION;VALUE=URI;X-ADDRESS=Bartolomějská 11\, Praha 
 1\, Praha\, hlavní město\, 110 00\, Česká republika;X-APPLE-RADIUS=100
 ;X-TITLE=palác Konvikt:geo:50.0830744,14.4175702
END:VEVENT
BEGIN:VTIMEZONE
TZID:Europe/Prague
X-LIC-LOCATION:Europe/Prague
BEGIN:STANDARD
DTSTART:20161030T020000
TZOFFSETFROM:+0200
TZOFFSETTO:+0100
TZNAME:CET
END:STANDARD
END:VTIMEZONE
END:VCALENDAR