BEGIN:VCALENDAR
VERSION:2.0
PRODID:-//wp-events-plugin.com//7.2.3.1//EN
BEGIN:VEVENT
UID:18@ventureclub.cz
DTSTART;TZID=Europe/Prague:20170314T180000
DTEND;TZID=Europe/Prague:20170314T200000
DTSTAMP:20221007T074132Z
URL:https://ventureclub.cz/udalost/drahe-kovy-opet-jinak/
SUMMARY:Drahé kovy\, kameny a šperky
DESCRIPTION:...v úterý podvečer 14.3.2017 se můžete seznámit\, co obn
 áší investování do (nejen) drahých kovů.  Pozvali jsme si zástupc
 e dalšího z "producentů" - ATT investment\, společnost obchodující s
  kovy\, drahými kameny\, šperky a nabízející i zajímavé finanční 
 produkty kombinované se zajištěním ve zlatě. \n\nVenture Club pro sv
 é členy a zájemce o členství pořádá další letošní prezentaci s
  diskusí se zkušenými investory.\n\nSejdeme se opět v paláci Konvikt\
 , v business centru Insignie\, velká zasedací místnost\, v prvním pat
 ře.\n\nTěšíme se na Vás.
ATTACH;FMTTYPE=image/jpeg:https://ventureclub.cz/wp-content/uploads/2017/0
 2/zlatoATT-e1488181110893.jpg
CATEGORIES:Prezentace
LOCATION:palác Konvikt\, Bartolomějská 11\, Praha 1\, Praha\, hlavní m
 ěsto\, 110 00\, Česká republika
GEO:50.0830744;14.4175702
X-APPLE-STRUCTURED-LOCATION;VALUE=URI;X-ADDRESS=Bartolomějská 11\, Praha 
 1\, Praha\, hlavní město\, 110 00\, Česká republika;X-APPLE-RADIUS=100
 ;X-TITLE=palác Konvikt:geo:50.0830744,14.4175702
END:VEVENT
BEGIN:VTIMEZONE
TZID:Europe/Prague
X-LIC-LOCATION:Europe/Prague
BEGIN:STANDARD
DTSTART:20161030T020000
TZOFFSETFROM:+0200
TZOFFSETTO:+0100
TZNAME:CET
END:STANDARD
END:VTIMEZONE
END:VCALENDAR