BEGIN:VCALENDAR
VERSION:2.0
PRODID:-//wp-events-plugin.com//7.2.3.1//EN
BEGIN:VEVENT
UID:246@ventureclub.cz
DTSTART;TZID=Europe/Prague:20210608T180000
DTEND;TZID=Europe/Prague:20210608T200000
DTSTAMP:20221007T074302Z
URL:https://ventureclub.cz/udalost/ekonomika2021/
SUMMARY:Ekonomika a inflace v Evropě 2021\, IRQ
DESCRIPTION:\n\nNa úterní večer v Parku Atrium máme předjednaného zaj
 ímavého hosta - Zdeňka Tůmu\, bývalého guvernéra ČNB\, věnující
  se aktuálně IRQ funds (článek z Forbesu si přečtěte zde). Čekaj
 í nás dvě části večera. Podíváme se na vývoj ekonomiky a inflace 
 v Evropě covidové\, roku 2021. Předchozí aktivity hosta dávají před
 poklad zajímavého pohledu na svět. Druhá část večera nabídne mož
 nost účasti a zajištění se - proti obvyklým projektům Venture clubu
  - bezpečným fondem kvalifikovaných investorů - IRQfunds.com.\n\nIRQ j
 e real estate fond\, věnujícímu se developmentu a provozujícími náje
 mné bydlení. Je to po horečném nákupu administrativních a obchodníc
 h center příjemná změna fokusu. Bude-li se to líbit\, možná otevře
 me klubový fond\, který by umožnil investovat do pětileté investice\,
  s průměrným čistým výnosem pro investora na úrovni 8% p.a.\n\nAť 
 už z pohledu zajímavé přednášky anebo seznámení se s konzervativn
 í investicí\, stavte se. Čeká nás večer plný informací\, kde bude 
 místo i na položení jakýchkoliv otázek.\n\nRegistrace níže pro osob
 ní nebo on-line účast. Pro osobní účast platí: předpokládáme\, 
 že jste očkováni\, nebo máte za sebou prodělání covid 19\, nebo neg
 ativní test a hlavně\, cítíte se zdraví. Rádi se s Vámi potkáme. D
 robné občerstvení zajištěno - registrace předem nutná.\n\nTěší s
 e\n\nPetr Šedivý
ATTACH;FMTTYPE=image/jpeg:https://ventureclub.cz/wp-content/uploads/2022/0
 8/IRQ_VC-1.png
CATEGORIES:Prezentace
LOCATION:Park Atrium u spol. 2N\, Pod Vinicí 2028/20\, Praha 12\, Česká 
 republika
GEO:50.0158484;14.404343599999947
X-APPLE-STRUCTURED-LOCATION;VALUE=URI;X-ADDRESS=Pod Vinicí 2028/20\, Praha
  12\, Česká republika;X-APPLE-RADIUS=100;X-TITLE=Park Atrium u spol. 2N:
 geo:50.0158484,14.404343599999947
END:VEVENT
BEGIN:VTIMEZONE
TZID:Europe/Prague
X-LIC-LOCATION:Europe/Prague
BEGIN:DAYLIGHT
DTSTART:20210328T030000
TZOFFSETFROM:+0100
TZOFFSETTO:+0200
TZNAME:CEST
END:DAYLIGHT
END:VTIMEZONE
END:VCALENDAR