BEGIN:VCALENDAR
VERSION:2.0
PRODID:-//wp-events-plugin.com//7.2.3.1//EN
BEGIN:VEVENT
UID:72@ventureclub.cz
DTSTART;TZID=Europe/Prague:20180925T180000
DTEND;TZID=Europe/Prague:20180925T200000
DTSTAMP:20221007T074210Z
URL:https://ventureclub.cz/udalost/hanus-brychta-2n-telekomunikace/
SUMMARY:Hanuš Brychta a příběh 2N Telekomunikací
DESCRIPTION:Hanuš Brychta je jedním ze zakládajících a řádných čle
 nů našeho klubu. 25 let svého života spojil se značkou 2N Telekomunik
 ace. Tato firma se od r. 1991 zabývá vývojem a výrobou ICT a výrobků
  pro fyzickou bezpečnost. Do portfolia 2N patří především IP interko
 my pro komunikaci dveří a tísňová volání\, komplexní řešení pro
  řízení přístupu IP\, IP audio systémy\, výtahové systémy\, výro
 bky M2M nebo telekomunikační systémy.\n\nFirmu 2N Telekomunikace založ
 il Hanuš Brychta s dalšími společníky Miroslavem Hofmanem a Romanem P
 ihanem se záměrem podnikat s počítači. Jejich garážová firma se po
  letech tvrdé práce stala jedničkou na trhu a v r. 2017 ji prodali šv
 édskému investorovi.\n\nPřijďte si poslechnout příběh jednoho z na
 šich členů!\n\n[caption id="attachment_5875" align="alignnone" width="1
 252"] Na snímku (zleva): generální ředitel Oldřich Stejskal a zaklada
 telé Roman Pihan\, Hanuš Brychta a Miroslav Hofman.[/caption]\n\nNa akci
  se registrujte níže. Koná se v prostorech 2N v Park Atriu v Modřanech
 .
ATTACH;FMTTYPE=image/jpeg:https://ventureclub.cz/wp-content/uploads/2018/0
 9/Hanus-Brychta_pribeh-1.jpg
CATEGORIES:Prezentace
LOCATION:Park Atrium u spol. 2N\, Pod Vinicí 2028/20\, Praha 12\, Česká 
 republika
GEO:50.0158484;14.404343599999947
X-APPLE-STRUCTURED-LOCATION;VALUE=URI;X-ADDRESS=Pod Vinicí 2028/20\, Praha
  12\, Česká republika;X-APPLE-RADIUS=100;X-TITLE=Park Atrium u spol. 2N:
 geo:50.0158484,14.404343599999947
END:VEVENT
BEGIN:VTIMEZONE
TZID:Europe/Prague
X-LIC-LOCATION:Europe/Prague
BEGIN:DAYLIGHT
DTSTART:20180325T030000
TZOFFSETFROM:+0100
TZOFFSETTO:+0200
TZNAME:CEST
END:DAYLIGHT
END:VTIMEZONE
END:VCALENDAR