BEGIN:VCALENDAR
VERSION:2.0
PRODID:-//wp-events-plugin.com//7.2.3.1//EN
BEGIN:VEVENT
UID:582@ventureclub.cz
DTSTART;TZID=Europe/Prague:20250218T180000
DTEND;TZID=Europe/Prague:20250218T200000
DTSTAMP:20250115T184755Z
URL:https://ventureclub.cz/udalost/ilona-svihlikova/
SUMMARY:Večer s ekonomkou Ilonou Švihlíkovou
DESCRIPTION:Venture Club podporuje vzdělávání a rádi zveme zajímavé 
 hosty. Dalším zajímavým hostem bude ekonomka paní Ilona Švihlíková
 . Můžete ji znát z komentářů z televize\, XTV\, podcastů\, tisku. O
 blíbeným tématem bývá energetika\, ceny elektřiny\, obecně makroeko
 nomie. Jak uvidíte na živo\, velmi dobře se s ní povídá a diskutuje 
 na jakékoliv téma týkající se aktuálního dění\, vlivu  státu\, 
 politiky\, EU či otázek přijmutí eura. Zvláště\, pokud se blíží 
 volby... \n\nDoc. Ing. Ilona Švihlíková\, Ph.D. (1977) absolvovala Vys
 okou školu ekonomickou\, obor Mezinárodní obchod. Profesně se věnuje 
 fenoménu globalizace\, komoditním trhům a hospodářské politice. Je a
 utorkou několika monografií\, nejznámější je "Jak jsme se stali kolo
 nií." Je zastáncem konceptu ekonomické suverenity. Aktuálně pracuje 
 na Vysoké škole obchodní jako děkanka fakulty.\n\nČeká nás zajímav
 é povídání\, ... osobně nebo on-line. :-)\n\nRegistrace na akci níž
 e. Vstup je tentokrát pro řádné členy v ceně členství\, pro ostatn
 í - základní členy a hosty za úhradu mírného vstupného. Akce je p
 řístupná i bez členství v klubu\, po přihlášení a úhradě vstupn
 ého předem\, kartou\, převodem\, nebo na místě hotově či QR kódem.
  Sledovat večer můžete i on-line.\n\nTěšíme se na viděnou.\n\nPetr 
 Šedivý
ATTACH;FMTTYPE=image/jpeg:https://ventureclub.cz/wp-content/uploads/2025/0
 1/ilonaSvihlikova_VC.jpg
CATEGORIES:Prezentace
LOCATION:Park Atrium u spol. 2N\, Pod Vinicí 2028/20\, Praha 12\, Česká 
 republika
GEO:50.0158484;14.404343599999947
X-APPLE-STRUCTURED-LOCATION;VALUE=URI;X-ADDRESS=Pod Vinicí 2028/20\, Praha
  12\, Česká republika;X-APPLE-RADIUS=100;X-TITLE=Park Atrium u spol. 2N:
 geo:50.0158484,14.404343599999947
END:VEVENT
BEGIN:VTIMEZONE
TZID:Europe/Prague
X-LIC-LOCATION:Europe/Prague
BEGIN:STANDARD
DTSTART:20241027T020000
TZOFFSETFROM:+0200
TZOFFSETTO:+0100
TZNAME:CET
END:STANDARD
END:VTIMEZONE
END:VCALENDAR