BEGIN:VCALENDAR
VERSION:2.0
PRODID:-//wp-events-plugin.com//7.2.3.1//EN
BEGIN:VEVENT
UID:146@ventureclub.cz
DTSTART;TZID=Europe/Prague:20200421T180000
DTEND;TZID=Europe/Prague:20200421T200000
DTSTAMP:20221007T074243Z
URL:https://ventureclub.cz/udalost/indigi-potencial-vyuziti-dat-socialnich
 -siti/
SUMMARY:Indigi - umělá inteligence a sociální sítě
DESCRIPTION:Pro úterní dubnový večer jsme zařadili zajímavou prezenta
 ci a povídání o souvislostech projektu Indigi. Sociální sítě hýbou
  světem\, každý každého zná a najde a díky prvkům AI\, mohou stejn
 ou operaci udělat i roboti - software. Že může na webu odpovídat chat
 bot\, místo pracovníka\, to víme\, ale že i celý profil uživatele m
 ůže být virtuální\, může psát a lajkovat příspěvky a tvořit s
 ítě přátel\, jen tušíme. Přes sítě se dají (prý) manipulovat i 
 volby\, jde najít a získat zájemce o investování\, či oslovit jakouk
 oliv jinou cílovou skupinu. Projekt Indigi je založen jako virtuální i
 nvestiční platforma\, která může pro startup pomoci definovat prezent
 aci a startup doplnit kde třeba. Může pro něj generovat leady a v kone
 čném efektu pomoci najít investiční prostředky. Bez omezení regionu
 \, 24/7\,... Protože když víte\, koho co zajímá\, co sleduje\, jste s
 chopni mu nabídnout správnou informaci a získat jeho pozornost. A od to
 ho už je jen krůček k tomu\, aby chtěl financovat zrovna Váš projekt
 . Vždyť se o něm dozvídá v okruhu svých přátel\, stále se o něm 
 píše...Takový projekt si nikdo nenechá ujít.\n\nVečer je koncipován
  jako přednáška a úvod do problematiky. Pokud nás téma zaujme\, mů
 žeme později navázat i průzkumem\, zda by se Indigi mělo u nás finan
 covat.  Umělá inteligence\, sociální sítě a komunikace tady totiž 
 už jsou\, budou a hýbou světem a zájmem veřejnosti už dnes. Nemusí 
 se nám to líbit\, může to být někdy na hraně zákona\, ale je dobr
 é o tom vědět.\n\nVečerem nás provede CTO a founder Jiří Fiala. Nej
 lepší doporučení je doporučení a participace Tomáše Pluháříka\,
  kterého znáte z Behavee a nebo i možná z oblasti další - bezpečnos
 ti komunikace  v sítích a na Internetu obecně.\n\nPokud Vás téma zau
 jalo\, přihlaste se níže. V den konání akce obdržíte link\, přes k
 terý se můžete připojit. Přednáška je primárně určena pro členy
  Venture Clubu\, uvítáme rádi ale i další zájemce a potenciální č
 leny. Přihlaste se.\n\nZdraví a těší se na viděnou\n\nPetr Šedivý
      a     Jiří Fiala\n\nVenture Club   a     Indigi\n\n&nbsp
 \;
ATTACH;FMTTYPE=image/jpeg:https://ventureclub.cz/wp-content/uploads/2020/0
 4/INDIGI-Help-for-those-that-Matter.png
CATEGORIES:Prezentace
LOCATION:Microsoft Teams Meeting\, online\, Praha 1\, Česká republika
GEO:50.0887101;14.4155981
X-APPLE-STRUCTURED-LOCATION;VALUE=URI;X-ADDRESS=online\, Praha 1\, Česká 
 republika;X-APPLE-RADIUS=100;X-TITLE=Microsoft Teams Meeting:geo:50.088710
 1,14.4155981
END:VEVENT
BEGIN:VTIMEZONE
TZID:Europe/Prague
X-LIC-LOCATION:Europe/Prague
BEGIN:DAYLIGHT
DTSTART:20200329T030000
TZOFFSETFROM:+0100
TZOFFSETTO:+0200
TZNAME:CEST
END:DAYLIGHT
END:VTIMEZONE
END:VCALENDAR