BEGIN:VCALENDAR
VERSION:2.0
PRODID:-//wp-events-plugin.com//7.2.3.1//EN
BEGIN:VEVENT
UID:168@ventureclub.cz
DTSTART;TZID=Europe/Prague:20201013T180000
DTEND;TZID=Europe/Prague:20201013T200000
DTSTAMP:20221007T074244Z
URL:https://ventureclub.cz/udalost/info-vecer-k-trem-nabiranym-projektum-p
 rodej-podilu-nove/
SUMMARY:Info večer k třem nabíraným projektům - prodej podílů nově
DESCRIPTION:Chcete-li se dozvědět o novém způsobu prodeje podílů v Ve
 nture Clubem zakládaným a investovaným firmám\, přihlaste se. Podív
 áme se jak na technickou stránku věci\, v nově upravené online platfo
 rmě klubu\, tak zodpovíme otázky k projektům. Nabíráme nyní - mimo 
 otevřené možnosti CFDF v Eur na baterie He3da - tři: LaFluence další
  tranži\, Greenbuddies Charging a OCEANS Kobližná\, investici do novéh
 o řetězce restaurací.\n\nTěšíme se na viděnou - předběžně onlin
 e.\n\nPetr Šedivý
CATEGORIES:Prezentace
END:VEVENT
BEGIN:VTIMEZONE
TZID:Europe/Prague
X-LIC-LOCATION:Europe/Prague
BEGIN:DAYLIGHT
DTSTART:20200329T030000
TZOFFSETFROM:+0100
TZOFFSETTO:+0200
TZNAME:CEST
END:DAYLIGHT
END:VTIMEZONE
END:VCALENDAR