BEGIN:VCALENDAR
VERSION:2.0
PRODID:-//wp-events-plugin.com//7.2.3.1//EN
BEGIN:VEVENT
UID:612@ventureclub.cz
DTSTART;TZID=Europe/Prague:20250916T180000
DTEND;TZID=Europe/Prague:20250916T210000
DTSTAMP:20250915T174846Z
URL:https://ventureclub.cz/udalost/inspirativni-setkani-s-lukasem-sedlacke
 m/
SUMMARY:Inspirativní setkání s Lukášem Sedláčkem
DESCRIPTION:Srdečně Vás zveme na jedinečnou akci \, kde vystoupí  PhD
 r. Lukáš Sedláček\, M. Phil. \, výkonný ředitel European Leadership
  &amp\; Academic Institute (ELAI)\, historik\, politolog\, vizionář a po
 dporovatel inovací - je též zakladatel a CEO akce Týden inovací. \nK
 do je PhDr. Lukáš Sedláček\, M. Phil.?\n\nZakladatel a výkonný ředi
 tel  ELAI (European Leadership &amp\; Academic Institute) \, který se za
 měřuje na vzdělávání managementu a podpory startupů\nAbsolvent pres
 tižních univerzit\, mimo jiné University of Cambridge.\nFilozoficky zal
 ožený myslitel\, který se zajímá o  umělou inteligenci\, etiku tech
 nologií a budoucnost vzdělávání .\nAktivně se podílí na  mezinár
 odních projektech \, včetně kulturních a obchodních misí\, napříkl
 ad v Jižní Koreji\n \n\n\nLukáš Sedláček\, absolvent University of 
 Cambridge\, se dlouhodobě zabývá umělou inteligencí\, etikou technolo
 gií a budoucností vzdělávání. Ve své přednášce se zaměří na t
 o\, jak mohou nové technologie posílit\, ale i ohrozit lidský potenciá
 l a jak se s těmito výzvami vyrovnat v praxi. Účastníci se mohou tě
 šit na inspirativní vhledy a praktické příklady z oblasti inovací\, 
 leadershipu a vzdělávání. \n\nAktuálně vychází také jeho nová kn
 iha Nazí v době AI – dlouho připravovaný projekt\, na kterém autor 
 pracoval několik let. Kniha není jen analýzou technologického vývoje\
 , ale i hlubokou osobní výpravou k otázce\, co s námi udělá éra um
 ělé inteligence. Spojuje technologie s filozofií\, psychologií\, antro
 pologií a dokonce i uměním – jednotlivé kapitoly doprovází autorov
 y sochy.\n \n\nCo vás během večera v klubu čeká? \n\nJiž zmíněná
  zajímavá kniha\n\nNazí v AI době: Identita člověka a hledání smy
 slu tváří v tvář umělé inteligenci\n\n Svět se chvěje tempem zm
 ěn.Snažíme se v něm zorientovat a ptáme se:Kdo vlastně jsem v AI dob
 ě?Jak AI ovlivní naše zdraví\, práci a vztahy?Co čeká lidstvo v AI 
 době?\n\nObálka knížky\, kterou si můžete objednat již dnes:\n\nV k
 nize Nazí v AI době čtenář nenajde tipy\, jak být díky umělé int
 eligenci víc efektivní. Místo toho se pustí na dobrodružnou výprav
 u historií\, krajinou mýtů a dějinami západního myšlení. Na její
 m konci možná uvidí\, že AI je hlavně šancí k poznání sebe sama.
  \n\n\nInspirativní přednáška na téma  „Budoucnost technologií a
  lidského potenciálu“\nDiskuze o  inovacích\, vedení a vzděláván
 í\nProstor pro  networking a výměnu názorů\n\nTěšíme se na Vás! 
 Vstup pro členy zdarma\, pro další hosty z poplatek. Registrace předem
  je nutná. Děkujeme. MUDr. Petr Šedivý\, předseda výboru Venture Clu
 bu z.s.
ATTACH;FMTTYPE=image/jpeg:https://ventureclub.cz/wp-content/uploads/2025/0
 7/lukas-sedlacek-upsdowns-.png
CATEGORIES:Prezentace
LOCATION:Park Atrium u spol. 2N\, Pod Vinicí 2028/20\, Praha 12\, Česká 
 republika
GEO:50.0158484;14.404343599999947
X-APPLE-STRUCTURED-LOCATION;VALUE=URI;X-ADDRESS=Pod Vinicí 2028/20\, Praha
  12\, Česká republika;X-APPLE-RADIUS=100;X-TITLE=Park Atrium u spol. 2N:
 geo:50.0158484,14.404343599999947
END:VEVENT
BEGIN:VTIMEZONE
TZID:Europe/Prague
X-LIC-LOCATION:Europe/Prague
BEGIN:DAYLIGHT
DTSTART:20250330T030000
TZOFFSETFROM:+0100
TZOFFSETTO:+0200
TZNAME:CEST
END:DAYLIGHT
END:VTIMEZONE
END:VCALENDAR