BEGIN:VCALENDAR
VERSION:2.0
PRODID:-//wp-events-plugin.com//7.2.3.1//EN
BEGIN:VEVENT
UID:117@ventureclub.cz
DTSTART;TZID=Europe/Prague:20191008T180000
DTEND;TZID=Europe/Prague:20191008T200000
DTSTAMP:20221007T082053Z
URL:https://ventureclub.cz/udalost/investice-do-infrastruktury-indie-filip
 iny-kambodza/
SUMMARY:Investice do infrastruktury - Indie\, Filipíny\, Kambodža
DESCRIPTION:Večer věnovaný investování do infrastrukturních projektů
  v Asii - pod značkou Thomas LLoyd - bude připomenutím a aktualizací a
 ktuálních příležitostí\, včetně představení chystaných novinek.
  Provázet nás bude Petr Sejkora\, ředitel distribuce Thomas Lloyd v ČR
 . Své zkušenosti jistě přidají i další členové Venture Clubu. Zaj
 ímá Vás "bezpečné" investování\, za které lze infrastrukturní pro
 jekty považovat? Chtěli by jste se ještě zapojit do končících fond
 ů\, kde mají  investoři podíl na výnosu společnosti? Stavte se. Je 
 dobré mít přehled\, třeba i pro posouzení jiných příležitostí.\n
 \nPo přihlášení\, jste-li členy Venture clubu\, najdete základní in
 formace o Thomas Lloyd v sekci Produktové investice.\n\nVstup po předcho
 zí registraci níže.\n\nTěšíme se na setkání s Vámi.\n\nVenture Cl
 ub
ATTACH;FMTTYPE=image/jpeg:https://ventureclub.cz/wp-content/uploads/2019/0
 7/Screenshot-2019-09-27-09.23.28-e1569569767570.png
CATEGORIES:Prezentace
LOCATION:Park Atrium u spol. 2N\, Pod Vinicí 2028/20\, Praha 12\, Česká 
 republika
GEO:50.0158484;14.404343599999947
X-APPLE-STRUCTURED-LOCATION;VALUE=URI;X-ADDRESS=Pod Vinicí 2028/20\, Praha
  12\, Česká republika;X-APPLE-RADIUS=100;X-TITLE=Park Atrium u spol. 2N:
 geo:50.0158484,14.404343599999947
END:VEVENT
BEGIN:VTIMEZONE
TZID:Europe/Prague
X-LIC-LOCATION:Europe/Prague
BEGIN:DAYLIGHT
DTSTART:20190331T030000
TZOFFSETFROM:+0100
TZOFFSETTO:+0200
TZNAME:CEST
END:DAYLIGHT
END:VTIMEZONE
END:VCALENDAR