BEGIN:VCALENDAR
VERSION:2.0
PRODID:-//wp-events-plugin.com//7.2.3.1//EN
BEGIN:VEVENT
UID:580@ventureclub.cz
DTSTART;TZID=Europe/Prague:20250121T180000
DTEND;TZID=Europe/Prague:20250121T200000
DTSTAMP:20250113T200146Z
URL:https://ventureclub.cz/udalost/ivo-toman-dusevni-lenost/
SUMMARY:Ivo Toman - Duševní lenost
DESCRIPTION:Venture Club podporuje vzdělávání a rádi zveme zajímavé 
 hosty. Proto jsme se rozhodli pozvat Ivo Tomana. Je to podnikatel\, mentor
 \, speaker\, věnující se dlouhá léta osobnímu rozvoji a hlavně - pr
 odeji. A všichni něco prodáváme a všichni někdy řešíme\, jak trá
 víme čas\, někdy i díky duševní lenosti ne tím\, čím bychom  ča
 s trávit měli. S Ivo Tomanem jsme se potkali na Vánočním punči u ná
 s a pak znovu nyní počátkem ledna - a velmi nás zaujal. Doporučujeme 
 - stavte se. "Koupená přednáška"  se prodává firmám za 40 tisíc K
 č plus DPH a u nás ji máte za drobné vstupné\, pokud ne zdarma. \n\n
 Ivo Toman\n\nKdo jste neviděli\, doporučujeme\, podívejte se na pořad 
 ČT Ivo Toman\, 13. komnata.\n\nAnotace večera:\n\nDíky fyzické lenosti
  vymýšlíme zlepšováky a vynálezy. Duševní (myšlenková) lenost n
 ám naopak škodí\, když nechceme „namáhavě“ přemýšlet. Místo 
 vnitřního úsilí si raději zvolíme snadné a příjemné vnější po
 dněty (televize\, internet\, sociální sítě\, jídlo\, klábosení…)
 . Duševní lenost má ohromné důsledky. Kvůli ní většina lidí nen
 aplní svůj potenciál\, talentovaní studenti nedostudují\, chytří li
 dé nejsou úspěšní atd. O našich výsledcích totiž rozhoduje to\, z
 da překonáme odpor k duševní námaze v těch oblastech\, které nás s
 ice nebaví\, ale jsou klíčové.\n\nPřednáška má 3 části:\n\n 	Př
 íčiny duševní lenosti\n 	Důsledky duševní lenosti\n 	Návody\, jak 
 zvládnout duševní lenost\n\nČeká nás zajímavé povídání\, ... os
 obně nebo on-line. :-)\n\nRegistrace na akci níže. Vstup je tentokrát 
 pro řádné členy v ceně členství\, pro ostatní - základní členy 
 a hosty za úhradu mírného vstupného. Akce je přístupná i bez člens
 tví v klubu\, po přihlášení a úhradě vstupného předem\, kartou\, 
 převodem\, nebo na místě hotově či QR kódem.\n\nTěšíme se na vid
 ěnou.\n\nPetr Šedivý
ATTACH;FMTTYPE=image/jpeg:https://ventureclub.cz/wp-content/uploads/2025/0
 1/ivotoman.jpg
CATEGORIES:Prezentace
LOCATION:Park Atrium u spol. 2N\, Pod Vinicí 2028/20\, Praha 12\, Česká 
 republika
GEO:50.0158484;14.404343599999947
X-APPLE-STRUCTURED-LOCATION;VALUE=URI;X-ADDRESS=Pod Vinicí 2028/20\, Praha
  12\, Česká republika;X-APPLE-RADIUS=100;X-TITLE=Park Atrium u spol. 2N:
 geo:50.0158484,14.404343599999947
END:VEVENT
BEGIN:VTIMEZONE
TZID:Europe/Prague
X-LIC-LOCATION:Europe/Prague
BEGIN:STANDARD
DTSTART:20241027T020000
TZOFFSETFROM:+0200
TZOFFSETTO:+0100
TZNAME:CET
END:STANDARD
END:VTIMEZONE
END:VCALENDAR