BEGIN:VCALENDAR
VERSION:2.0
PRODID:-//wp-events-plugin.com//7.2.3.1//EN
BEGIN:VEVENT
UID:411@ventureclub.cz
DTSTART;TZID=Europe/Prague:20230411T180000
DTEND;TZID=Europe/Prague:20230411T200000
DTSTAMP:20230324T071759Z
URL:https://ventureclub.cz/udalost/jak-investuje-priroda/
SUMMARY:Jak investuje příroda?
DESCRIPTION:Většina lidí se chce umět rychleji a lépe rozhodovat\, bý
 t flexibilnější\, lépe zvládat změny a umět se přizpůsobit. A vě
 tšina lidí se ráda inspiruje přírodou. Chcete vědět\, co by Vám po
 radily bakterie\, které už na Zemi "obchodují" 4 miliardy let? \nVečer
 em ve Venture Clubu nás provází a poutavě vypráví:\nJosef Lhotský\n
 Agilní kouč\, lektor a vystudovaný biolog\nRNDr. Josef Lhotský\, Ph.D.
 \, se věnuje splétání a rozplétání příběhů\, z nichž nejvíc m
 iluje ten největší: evoluci. Vystudoval teoretickou a evoluční biolog
 ii\, a je autorem a spoluautorem několika knih\, ale zabrousil i do filos
 ofie a dějin vědy. Jeho specializací jsou symbiotické vztahy\, spolupr
 áce a vzdělávání. Vyučoval na PřF UK\, FSS MU a FF UP\, účastnil 
 se řady vzdělávacích projektů\, byl členem redakční rady časopisu
  Vesmír a osm let hrál ochotnické divadlo.\nOd roku 2015 pracuje v korp
 orátní sféře (bankovnictví\, telekomunikace)\, z toho poslední roky 
 jako agilní kouč\, nadšený lektor a tvůrce netradičních workshopů.
 \nMezi jeho práce patří:\nSymbiotický vesmír: biologický horizont ud
 álostí\,\nÚvod do studia symbiotických interakcí mikroorganismů. Nov
 ý pohled na viry a bakterie a\nSen noci darwinovské aneb O čem se vám 
 v souvislosti s evolucí ani nezdá.\nV roce 2016 získal cenu nakladatels
 tví Academia za překlad vědecké &amp\; populárně naučné literatury
 .\nJeho přednášku jsme slyšeli a natolik nás zaujala\, že jsme si ř
 ekli - pozveme ho. Zdánlivě zvláštní téma\, bakterie... totiž jak u
 vidíte\, stojí za to.\n\n&nbsp\;\n\nVečer je pro členy klubu s řádn
 ým (full) členstvím zdarma\, pro základní členy (basic) a hosty za m
 írné vstupné. Hradit vstupné lze na místě hotově\, nebo předem kar
 tou či převodem. Registrace níže nutná. Pro účastníky na místě z
 ajišťujeme malé občerstvení. Večer bude streamován a můžete ho sl
 edovat on-line.\n\nTěšíme se na viděnou.\n\nRadim Horák a Petr Šediv
 ý
ATTACH;FMTTYPE=image/jpeg:https://ventureclub.cz/wp-content/uploads/2023/0
 3/Lhotsky.png
CATEGORIES:Prezentace
LOCATION:Park Atrium u spol. 2N\, Pod Vinicí 2028/20\, Praha 12\, Česká 
 republika
GEO:50.0158484;14.404343599999947
X-APPLE-STRUCTURED-LOCATION;VALUE=URI;X-ADDRESS=Pod Vinicí 2028/20\, Praha
  12\, Česká republika;X-APPLE-RADIUS=100;X-TITLE=Park Atrium u spol. 2N:
 geo:50.0158484,14.404343599999947
END:VEVENT
BEGIN:VTIMEZONE
TZID:Europe/Prague
X-LIC-LOCATION:Europe/Prague
BEGIN:DAYLIGHT
DTSTART:20230326T030000
TZOFFSETFROM:+0100
TZOFFSETTO:+0200
TZNAME:CEST
END:DAYLIGHT
END:VTIMEZONE
END:VCALENDAR