BEGIN:VCALENDAR
VERSION:2.0
PRODID:-//wp-events-plugin.com//7.2.3.1//EN
BEGIN:VEVENT
UID:9@ventureclub.cz
DTSTART;TZID=Europe/Prague:20170118T190000
DTEND;TZID=Europe/Prague:20170118T210000
DTSTAMP:20221007T074131Z
URL:https://ventureclub.cz/udalost/jak-ziskat-penize-pro-svuj-projekt/
SUMMARY:Jak získat peníze pro svůj projekt?
DESCRIPTION:Máte podnikatelský nápad a potřebujete ho financovat? Nebo 
 máte rozběhnuté podnikání s potenciálem a potřebujete získat doda
 tečné prostředky pro jeho další růst? Na společné akci pražského
  klubu investorů Venture Club a marketingového studia StartOnline zamě
 řeného na start-upy\, získáte informace\, jak financování pro svůj 
 projekt získat\, co investoři požadují. \n\nCo se dozvíte a můžete 
 probrat?\n\n 	Jaký typ projektů jsou investoři ochotni podpořit?\n 	Ja
 ké podklady k projektu od Vás investoři žádají?\n 	Co si připravit
  na prezentaci projektu pro investory?\n 	Chcete vůbec získat investora?
  Není pro Vás lepší půjčit si z banky?\n 	K čemu získané peníz
 e nejlépe využít?\n\nVečerem Vás provede Petr Šedivý\, předseda k
 lubu investorů Venture Club a další hosté\, kteří se s Vámi poděl
 í o své zkušenosti:\n\n 	S možnostmi bankovního financování seznám
 í zástupce České Spořitelny - Ladislav Dvořák.\n 	Jak sestavit fina
 nční plán pro start-up probere Jan Zavřel (ekonom klubu\, s praxí v C
 onsultingu ČS a vedení Asociace pro poradenství).\n 	Praktické aspekty
  spolupráce s investory a jejich požadavky na projekty probere panel inv
 estorů s Viktorem Zeiselem (investor\, expert IT)\, Jaroslavem Koptou (in
 vestor\, s několika úspěšnými exity\, aktivní v Asociaci poradenstv
 í) a dalšími hosty. Těšit se můžete na zajímavou diskusi.\n\nSetk
 ání organizuje studio StartOnline.\nKapacita akce je 30 míst.\n\nCena: 
 500 Kč\, 400 Kč pro členy Venture Club\, Impact Hub\,  a Business for 
 Breakfast.\n\nTěšíme se na Vás\,\nPetr Šedivý a Milena Yasmin Fridm
 anová\n\nPřihlásit na akci se můžete zde.
ATTACH;FMTTYPE=image/jpeg:https://ventureclub.cz/wp-content/uploads/2016/1
 1/jak-ziskat-penize-pro-svuj-projekt_pic.jpg
CATEGORIES:Prezentace
LOCATION:Impact Hub Praha\, Drtinova 557/10\, Praha 5\, Česká republika\,
  15000\, Česká republika
GEO:50.0763908;14.402273499999978
X-APPLE-STRUCTURED-LOCATION;VALUE=URI;X-ADDRESS=Drtinova 557/10\, Praha 5\,
  Česká republika\, 15000\, Česká republika;X-APPLE-RADIUS=100;X-TITLE=
 Impact Hub Praha:geo:50.0763908,14.402273499999978
END:VEVENT
BEGIN:VTIMEZONE
TZID:Europe/Prague
X-LIC-LOCATION:Europe/Prague
BEGIN:STANDARD
DTSTART:20161030T020000
TZOFFSETFROM:+0200
TZOFFSETTO:+0100
TZNAME:CET
END:STANDARD
END:VTIMEZONE
END:VCALENDAR