BEGIN:VCALENDAR
VERSION:2.0
PRODID:-//wp-events-plugin.com//7.2.3.1//EN
BEGIN:VEVENT
UID:583@ventureclub.cz
DTSTART;TZID=Europe/Prague:20250414T190000
DTEND;TZID=Europe/Prague:20250414T220000
DTSTAMP:20250331T103937Z
URL:https://ventureclub.cz/udalost/jarni-koncert-bennewitzova-kvarteta-202
 5/
SUMMARY:Jarní koncert Bennewitzova kvarteta 2025
DESCRIPTION:Na začátek jarních dní jsme pro vás připravili opět kult
 urní zážitek. Díky našim dlouhodobým partnerským vztahům s Bennewi
 tzovým kvartetem opět pořádáme soukromý koncert tohoto špičkového
  souboru\, který vystupuje na prestižních světových scénách. Koncer
 t se koná tentokrát v prostorách INSIGNIA v našem sídle na adrese Kon
 viktská 24\, Praha Staré Město.\nBennewitzovo kvarteto nám zahraje dv
 ě skvělá radostná díla s vrcholných období autorů.\nBrahms - Smyč
 cový kvartet č. 3 B dur\, op. 67\n\n 	Vivace\n 	Andante\n 	Agitato - All
 egretto non troppo\n 	Poco allegretto con variazioni\n\n&nbsp\;\n\nDvořá
 k - Smyčcový kvartet č. 14 As dur\, op.105 (31')\n\n 	věta - Adagio ma
  non troppo - Allegro appasionato\n 	věta - Molto vivace\n 	věta - Lento
  e molto cantabile\n 	věta - Allegro non tanto\n\nDress code: business ca
 sual\n\nPozvěte své polovičky\, přátele a hosty\, máme se na co tě
 šit. Vstup je možný i pro nečleny klubu. Objednání vstupu níže\, p
 latba předem převodem nebo na místě QR kódem.. Výtěžek vstupního 
 bude věnován jako honorář umělcům. Ostatní náklady akce sponzoruje
  klub.\n\nDěkujeme\, těšíme se na viděnou a přejeme Vám příjemný
  zážitek.\n\nPetr Šedivý a Radim Horák
ATTACH;FMTTYPE=image/jpeg:https://ventureclub.cz/wp-content/uploads/2023/0
 9/BQ2023.jpg
CATEGORIES:Společenská akce
LOCATION:palác Konvikt\, Bartolomějská 11\, Praha 1\, Praha\, hlavní m
 ěsto\, 110 00\, Česká republika
GEO:50.0830744;14.4175702
X-APPLE-STRUCTURED-LOCATION;VALUE=URI;X-ADDRESS=Bartolomějská 11\, Praha 
 1\, Praha\, hlavní město\, 110 00\, Česká republika;X-APPLE-RADIUS=100
 ;X-TITLE=palác Konvikt:geo:50.0830744,14.4175702
END:VEVENT
BEGIN:VTIMEZONE
TZID:Europe/Prague
X-LIC-LOCATION:Europe/Prague
BEGIN:DAYLIGHT
DTSTART:20250330T030000
TZOFFSETFROM:+0100
TZOFFSETTO:+0200
TZNAME:CEST
END:DAYLIGHT
END:VTIMEZONE
END:VCALENDAR