BEGIN:VCALENDAR
VERSION:2.0
PRODID:-//wp-events-plugin.com//7.2.3.1//EN
BEGIN:VEVENT
UID:57@ventureclub.cz
DTSTART;TZID=Europe/Prague:20180511T190000
DTEND;TZID=Europe/Prague:20180511T214500
DTSTAMP:20221007T074209Z
URL:https://ventureclub.cz/udalost/karlova-koruna/
SUMMARY:ŠLECHTICKÁ SÍDLA V V SOUZNĚNÍ IN CONCERTA - Karlova Koruna
DESCRIPTION:\nZveme členy klubu a příznivce na zajímavý večer 11.5.20
 18\, věnovaný hudbě\, skvělému vínu a noční prohlídce zámku  Ka
 rlova Koruna v Chlumci nad Cidlinou\, patřící rodu Kinských dal Borgo.
  Venture Club Invest je generálním partnerem večera\, který zahajuje s
 érii koncertů a prohlídek na zajímavých místech v Čechách a na Mor
 avě. Budete mít možnost se blíže seznámit s historií a přítomnost
 i rodů a jejich významu\, pro formování krajiny\, průmyslu i dnešní
  - někdy zvláštní - doby. Akci produkuje Jitka Bláhová\, s kterou n
 avazujeme na starší spolupráci na benefičním večeru nadace Mathilda\
 , konaném naposledy v listopadu 2017. Spolupořadatel je Ing. Karin Uhl
 íková\,CSc. jednatelka Smart Buyng wine\, s.r.o.\n\nRok 2018 je nejen ro
 kem kdy si Česká republika připomíná 100 let od jejího vzniku\, ale 
 rok 2018 je také vyhlášen rokem kulturních památek a při této pří
 ležitosti bychom si vám dovolili představit nový projekt „ŠLECHTICK
 Á SÍDLA V V SOUZNĚNÍ IN CONCERTA“.\n\nSe svým výjimečným hudebn
 ím projektem IN CONCERTO se vám pro letošní rok představí dva pánov
 é (2 členové známého vokálního seskupení 4TET)\, Jiří Škorpík 
 a David Uličník. V jejich podání zažijete opravdové multižánrové 
 hody. Jejich srdečné a vřelé vystoupení nabízí široký repertoár\
 , opravdových hudebních skvostů. Za jediný večer si tak můžete vych
 utnat známé árie z pera italských autorů\, poslechnout si písně Leo
 še Janáčka v podání úžasného tenora Davida Uličníka\, prožít z
 pěvné písně z dílny významného hudebního skladatele a aranžéra J
 iřího Škorpíka\, včetně árií z muzikálu Antoianetta královna Fra
 ncie a v neposlední řadě užít si známé písně Karla Gotta\, Karla 
 Svobody\, Waldemara Matušku a další hity české populární hudby.\n\n
 \nObjednání vstupenek níže\, v ceně je koncert\, ochutnávka vína a 
 vstup na prohlídku zámku. Pro členy klubu je vstupné se slevou 100 Kč
 . Je možné objednat dvě vstupenky za sníženou cenu na osobu. Nabídka
  platí do vyprodání.\n\nTěšíme se na skvělý zážitek.\n
ATTACH;FMTTYPE=image/jpeg:https://ventureclub.cz/wp-content/uploads/2018/0
 2/Screenshot-2018-03-07-13.23.55.png
CATEGORIES:Společenská akce
LOCATION:Zámek Karlova Koruna\, Pražská č.p.1/IV\, Chlumec nad Cidlinou
 \, Česká republika
GEO:50.15898319999999;15.451159700000062
X-APPLE-STRUCTURED-LOCATION;VALUE=URI;X-ADDRESS=Pražská č.p.1/IV\, Chlum
 ec nad Cidlinou\, Česká republika;X-APPLE-RADIUS=100;X-TITLE=Zámek Karl
 ova Koruna:geo:50.15898319999999,15.451159700000062
END:VEVENT
BEGIN:VTIMEZONE
TZID:Europe/Prague
X-LIC-LOCATION:Europe/Prague
BEGIN:DAYLIGHT
DTSTART:20180325T030000
TZOFFSETFROM:+0100
TZOFFSETTO:+0200
TZNAME:CEST
END:DAYLIGHT
END:VTIMEZONE
END:VCALENDAR