BEGIN:VCALENDAR
VERSION:2.0
PRODID:-//wp-events-plugin.com//7.2.3.1//EN
BEGIN:VEVENT
UID:687@ventureclub.cz
DTSTART;TZID=Europe/Prague:20260411T110000
DTEND;TZID=Europe/Prague:20260411T140000
DTSTAMP:20260401T082216Z
URL:https://ventureclub.cz/udalost/kdyz-hudba-zije-studenti-jubilantum/
SUMMARY:KDYŽ HUDBA ŽIJE... Studenti jubilantům.
DESCRIPTION:Srdečně zvu na další ze série studentských koncertů KDY
 Ž HUDBA ŽIJE... Studenti jubilantům.\n\n\n\nVystoupí vybrané komorní
  soubory HAMU.\nNašimi letošními jubilanty jsou skladatelé M. Ravel\, 
 O. Respighi a D. Šostakovič.\n\nNa koncertě zazní Introdukce a Allegro
  pro harfu\, flétnu\, klarinet a smyčcové kvarteto Maurice Ravela\, Dec
 hový kvintet Ottorina Respighiho a Klavírní kvintet Dmitrije Šostakovi
 če.\n\nPo koncertě jsou všichni posluchači zváni na kávu\, čaj a b
 ábovku a příjemné popovídání s mladými umělci.\n\nKoncert se kon
 á v sobotu 11. dubna v 11:00 v Sále Bohuslava Martinů na HAMU v Praze.\
 n\nVstup volný\, občerstvení za dobrovolný příspěvek.\n\nVezměte s
  sebou přátele\, příbuzné a známé a přijďte podpořit mladé hude
 bníky!\n\nDíky\, těším se na setkání\, Štěpán Ježek.\n\nNení p
 otřeba registrace\, můžete přijít rovnou.
ATTACH;FMTTYPE=image/jpeg:https://ventureclub.cz/wp-content/uploads/2026/0
 4/WhatsApp-Image-2026-03-31-at-22.11.15.jpeg
CATEGORIES:Společenská akce
LOCATION:Sál Bohuslava Martinů\, Malostranské nám. 258/13\, 118 00 Mal
 á Strana\, Praha 1\, 11000\, 
GEO:50.088185;14.402133
X-APPLE-STRUCTURED-LOCATION;VALUE=URI;X-ADDRESS=Malostranské nám. 258/13\
 , 118 00 Malá Strana\, Praha 1\, 11000\, ;X-APPLE-RADIUS=100;X-TITLE=Sál
  Bohuslava Martinů:geo:50.088185,14.402133
END:VEVENT
BEGIN:VTIMEZONE
TZID:Europe/Prague
X-LIC-LOCATION:Europe/Prague
BEGIN:DAYLIGHT
DTSTART:20260329T030000
TZOFFSETFROM:+0100
TZOFFSETTO:+0200
TZNAME:CEST
END:DAYLIGHT
END:VTIMEZONE
END:VCALENDAR