BEGIN:VCALENDAR
VERSION:2.0
PRODID:-//wp-events-plugin.com//7.2.3.1//EN
BEGIN:VEVENT
UID:160@ventureclub.cz
DTSTART;TZID=Europe/Prague:20200828T090000
DTEND;TZID=Europe/Prague:20200828T110000
DTSTAMP:20221007T074244Z
URL:https://ventureclub.cz/udalost/klubova-snidane-na-kampe/
SUMMARY:Klubová snídaně na Kampě
DESCRIPTION:Rozloučení s prázdninami a létem nás čeká poslední srpn
 ový pátek. Na netradičním místě i v netradiční čas - od 9 hodin r
 áno - se potkáme u Vltavy\, na výbornou snídani a neformální povíd
 ání.\n\nPřihlášení níže - restaurace Piknik Park je zajištěna ko
 legou Davidem Borovcem. Děkujeme!\n\nTěšíme se na setkání.\n\nPetr 
 Šedivý
ATTACH;FMTTYPE=image/jpeg:https://ventureclub.cz/wp-content/uploads/2020/0
 7/piknikpark.png
CATEGORIES:Snídaně
LOCATION:Restaurace Piknik Park\, Nosticova 8 (proti Werichově vile\, IF C
 afé)\, Praha 1\, 11000\, Česká republika
GEO:50.0853614;14.408064
X-APPLE-STRUCTURED-LOCATION;VALUE=URI;X-ADDRESS=Nosticova 8 (proti Werichov
 ě vile\, IF Café)\, Praha 1\, 11000\, Česká republika;X-APPLE-RADIUS=1
 00;X-TITLE=Restaurace Piknik Park:geo:50.0853614,14.408064
END:VEVENT
BEGIN:VTIMEZONE
TZID:Europe/Prague
X-LIC-LOCATION:Europe/Prague
BEGIN:DAYLIGHT
DTSTART:20200329T030000
TZOFFSETFROM:+0100
TZOFFSETTO:+0200
TZNAME:CEST
END:DAYLIGHT
END:VTIMEZONE
END:VCALENDAR